BEGIN:VCALENDAR
VERSION:2.0
PRODID:-//ChamberMaster//Event Calendar 2.0//EN
METHOD:PUBLISH
X-PUBLISHED-TTL:P3D
REFRESH-INTERVAL:P3D
CALSCALE:GREGORIAN
BEGIN:VEVENT
DTSTART:20181024T230000Z
DTEND:20181025T030000Z
X-MICROSOFT-CDO-ALLDAYEVENT:FALSE
SUMMARY:Crowne Plaza Ballroom Open House
DESCRIPTION:Wear Your Crowne!\n\n\n\nTour the newly renovated & chic Crowne Ballroom to envision your next event on October 24th!  Enjoy refreshments and treats.
X-ALT-DESC;FMTTYPE=text/html:Wear Your Crowne!<br />\n<br />\nTour the newly renovated &amp\; chic Crowne Ballroom to envision your next event on October 24th!&nbsp\; Enjoy refreshments and treats.<br />\n<br />\n<br />\n&nbsp\;
LOCATION:Crowne Plaza Los Angeles Commerce 6121 Telegraph Rd. Commerce\, CA 90040
UID:e.1156.3090
SEQUENCE:3
DTSTAMP:20260419T202420Z
URL:https://www.montebellochamber.org/events/details/crowne-plaza-ballroom-open-house-3090
END:VEVENT

END:VCALENDAR
