BEGIN:VCALENDAR
VERSION:2.0
PRODID:-//ChamberMaster//Event Calendar 2.0//EN
METHOD:PUBLISH
X-PUBLISHED-TTL:P3D
REFRESH-INTERVAL:P3D
CALSCALE:GREGORIAN
BEGIN:VEVENT
DTSTART:20181201T190000Z
DTEND:20181201T220000Z
X-MICROSOFT-CDO-ALLDAYEVENT:FALSE
SUMMARY:CSHM Open House
DESCRIPTION:Members of the public are invited to visit our school campus and enteract with our Students\, Teachers\, Administrators and Staff.
X-ALT-DESC;FMTTYPE=text/html:<span style="color:rgb(34\, 34\, 34)\; font-family:roboto\,arial\,sans-serif\; font-size:small">Members of the public are invited to visit our school campus and enteract with our Students\, Teachers\, Administrators and Staff. </span><br />\n&nbsp\;
LOCATION:Cantwell-Sacred Heart of Mary High School 329 North Garfield Avenue Montebello\, CA 90640
UID:e.1156.2631
SEQUENCE:3
DTSTAMP:20260419T160031Z
URL:https://www.montebellochamber.org/events/details/cshm-open-house-2631
END:VEVENT

END:VCALENDAR
