BEGIN:VCALENDAR
VERSION:2.0
PRODID:-//ChamberMaster//Event Calendar 2.0//EN
METHOD:PUBLISH
X-PUBLISHED-TTL:P3D
REFRESH-INTERVAL:P3D
CALSCALE:GREGORIAN
BEGIN:VEVENT
DTSTART:20191116T150000Z
DTEND:20191116T230000Z
X-MICROSOFT-CDO-ALLDAYEVENT:FALSE
SUMMARY:D.E.S.I. 3rd Annual Toy Drive
DESCRIPTION:D.E.S.I (Designated Exceptional Services for Independence) 3rd Annual Toy Drive!!  Let's keep bringing smiles to the children of Montebello Park Elementary. \n\n-Food by Montebello Park PTA\n\n-Raffles\, Prizes\, 50/50\, Live Music\, Vendors\, Food
X-ALT-DESC;FMTTYPE=text/html:D.E.S.I (Designated Exceptional Services for Independence) 3rd Annual Toy Drive!!&nbsp\; Let&#39\;s keep bringing smiles to the children of Montebello Park Elementary.&nbsp\;<br />\n-Food by Montebello Park PTA<br />\n-Raffles\, Prizes\, 50/50\, Live Music\, Vendors\, Food
LOCATION:Montebello Park Elementary 6300 E. Northside Drive Los Angeles\, CA 90022 (enter from Olympic Blvd. & Server Ave)
UID:e.1156.3481
SEQUENCE:3
DTSTAMP:20260419T160035Z
URL:https://www.montebellochamber.org/events/details/d-e-s-i-3rd-annual-toy-drive-3481
END:VEVENT

END:VCALENDAR
