BEGIN:VCALENDAR
VERSION:2.0
PRODID:-//ChamberMaster//Event Calendar 2.0//EN
METHOD:PUBLISH
X-PUBLISHED-TTL:P3D
REFRESH-INTERVAL:P3D
CALSCALE:GREGORIAN
BEGIN:VEVENT
DTSTART:20191018T000000Z
DTEND:20191018T040000Z
X-MICROSOFT-CDO-ALLDAYEVENT:FALSE
SUMMARY:D.E.S.I. Celebrating 10 Year Anniversary
DESCRIPTION:Join us at our 10 Year Anniversary Dinner as we celebrate the independence of people with intellectual disabilities.
X-ALT-DESC;FMTTYPE=text/html:Join us at our 10 Year Anniversary Dinner as we celebrate the independence of people with intellectual disabilities.&nbsp\;&nbsp\;
LOCATION:The Dynasty Room\, Bicycle Hotel & Casino 888 Bicycle Casino Drive Bell Grdens\, CA 90201
UID:e.1156.3447
SEQUENCE:3
DTSTAMP:20260419T160025Z
URL:https://www.montebellochamber.org/events/details/d-e-s-i-celebrating-10-year-anniversary-3447
END:VEVENT

END:VCALENDAR
