BEGIN:VCALENDAR
VERSION:2.0
PRODID:-//ChamberMaster//Event Calendar 2.0//EN
METHOD:PUBLISH
X-PUBLISHED-TTL:P3D
REFRESH-INTERVAL:P3D
CALSCALE:GREGORIAN
BEGIN:VEVENT
DTSTART:20130823T000000Z
DTEND:20130823T020000Z
X-MICROSOFT-CDO-ALLDAYEVENT:FALSE
SUMMARY:D.I.Y. T-Shirt Making Class
DESCRIPTION:D.I.Y. T-Shirt Making Class\n		\n	\n\n\n	\n		\n			\n				\n					Have an idea for a T-shirt that no one has? Want to make T-shirts for your friends\, family\, school event/club?  Thought about making some extra money? \n				\n					 \n				\n					This workshop is designed to take you step by step in the process and give you ideas on how to make 1 or several T-shirts.\n				\n					 \n				\n					Date:  Thursday\, August 22 \, 2013\n				\n					 \n				\n					Place:  MHDC Training Room\n				\n					            1619 Paramount Blvd.\n				\n					            Montebello\, CA 90640\n				\n					 \n				\n					Time:  5:00 pm to 7:00 pm\n				\n					 \n				\n					This workshop is designed for ages \n				\n					14 to 75 years.\n				\n					 \n				\n					To RSVP please call:  (323)722-3955\n				\n					or email:  mtbhousingcorp@aol.com
X-ALT-DESC;FMTTYPE=text/html:<table border="0" cellpadding="0" cellspacing="0" id="content_LETTER.BLOCK13" style="color: rgb(0\, 0\, 0)\; font-family: &quot\;Times New Roman&quot\;\; font-size: medium\; background-color: rgb(58\, 53\, 52)\;" width="100%">\n	<tbody>\n		<tr>\n			<td align="left" colspan="1" rowspan="1" style="padding: 7px 12px 0px\; color: rgb(255\, 255\, 255)\; font-family: &quot\;Trebuchet MS&quot\;\, Verdana\, Helvetica\, sans-serif\; font-size: 18pt\;" valign="top">\n				<b>D.I.Y. T-Shirt Making Class</b></td>\n		</tr>\n	</tbody>\n</table>\n<table border="0" cellpadding="0" cellspacing="0" id="content_LETTER.BLOCK14" style="color: rgb(0\, 0\, 0)\; font-family: &quot\;Times New Roman&quot\;\; font-size: medium\; background-color: rgb(58\, 53\, 52)\;" width="100%">\n	<tbody>\n		<tr>\n			<td align="left" colspan="1" rowspan="1" style="padding: 7px 12px\; color: rgb(255\, 255\, 255)\;" valign="top">\n				<div align="left" style="font-family: &quot\;Times New Roman&quot\;\, Times\, serif\; font-size: 12pt\;">\n					Have an idea for a T-shirt that no one has? Want to make T-shirts for your friends\, family\, school event/club? &nbsp\;Thought about making some extra money?&nbsp\;</div>\n				<div align="left" style="font-family: &quot\;Times New Roman&quot\;\, Times\, serif\; font-size: 12pt\;">\n					&nbsp\;</div>\n				<div align="left" style="font-family: &quot\;Times New Roman&quot\;\, Times\, serif\; font-size: 12pt\;">\n					This workshop is designed to take you step by step in the process and give you ideas on how to make 1 or several T-shirts.</div>\n				<div style="font-family: &quot\;Times New Roman&quot\;\, Times\, serif\; font-size: 10pt\;">\n					&nbsp\;</div>\n				<div align="left" style="font-family: &quot\;Times New Roman&quot\;\, Times\, serif\; font-size: 14pt\;">\n					<span style="text-decoration: underline\;"><strong>Date:</strong></span>&nbsp\; Thursday\, August 22&nbsp\;\, 2013</div>\n				<div align="left" style="font-family: &quot\;Times New Roman&quot\;\, Times\, serif\; font-size: 14pt\;">\n					&nbsp\;</div>\n				<div align="left" style="font-family: &quot\;Times New Roman&quot\;\, Times\, serif\; font-size: 14pt\;">\n					<span style="font-family: &quot\;Times New Roman&quot\;\, &quot\; Times&quot\;\, &quot\; serif&quot\;\; text-decoration: underline\;"><strong>Place:</strong></span>&nbsp\; MHDC Training Room</div>\n				<div align="left" style="font-family: &quot\;Times New Roman&quot\;\, Times\, serif\; font-size: 14pt\;">\n					<span style="font-size: 14pt\;">&nbsp\; &nbsp\; &nbsp\; &nbsp\; &nbsp\; &nbsp\; 1619 Paramount Blvd.</span></div>\n				<div align="left" style="font-family: &quot\;Times New Roman&quot\;\, Times\, serif\; font-size: 14pt\;">\n					&nbsp\;&nbsp\;&nbsp\;&nbsp\;&nbsp\;&nbsp\;&nbsp\;&nbsp\;&nbsp\;&nbsp\;&nbsp\; Montebello\, CA 90640</div>\n				<div align="left" style="font-family: &quot\;Times New Roman&quot\;\, Times\, serif\; font-size: 14pt\;">\n					&nbsp\;</div>\n				<div align="left">\n					<span style="font-family: &quot\;Times New Roman&quot\;\, Times\, serif\; font-size: 14pt\; text-decoration: underline\;"><strong>Time:</strong></span><span style="font-family: &quot\;Times New Roman&quot\;\, Times\, serif\; font-size: 14pt\;">&nbsp\;&nbsp\;5:00 pm to 7:00 pm</span></div>\n				<div align="left">\n					<span style="font-family: &quot\;Times New Roman&quot\;\, Times\, serif\; font-size: 14pt\;">&nbsp\;</span></div>\n				<div align="center" style="text-align: center\;">\n					<span style="font-family: &quot\;Times New Roman&quot\;\, Times\, serif\; font-size: 14pt\; text-decoration: underline\;">This workshop is designed for ages</span><span style="font-family: &quot\;Times New Roman&quot\;\, Times\, serif\; font-size: 14pt\; text-decoration: underline\;">&nbsp\;</span></div>\n				<div align="center" style="text-align: center\;">\n					<span style="font-family: &quot\;Times New Roman&quot\;\, Times\, serif\; font-size: 14pt\; text-decoration: underline\;">14 to 75 years.</span></div>\n				<div align="left">\n					<span style="font-family: &quot\;Times New Roman&quot\;\, Times\, serif\; font-size: 19px\;">&nbsp\;</span></div>\n				<div align="center" style="text-align: center\;">\n					<span style="font-family: &quot\;Times New Roman&quot\;\, Times\, serif\; font-size: 19px\;">To RSVP please call: &nbsp\;</span><span style="font-family: &quot\;Times New Roman&quot\;\, Times\, serif\; font-size: 19px\;">(323)722-3955</span></div>\n				<div align="center" style="text-align: center\;">\n					<span style="font-family: &quot\;Times New Roman&quot\;\, Times\, serif\; font-size: 19px\;">or email: &nbsp\;mtbhousingcorp@aol.com</span></div>\n			</td>\n		</tr>\n	</tbody>\n</table>\n<br />\n
LOCATION:MHDC Training Room 1619 Paramount Blvd. Montebello\, CA 90640
UID:e.1156.942
SEQUENCE:3
DTSTAMP:20260419T160130Z
URL:https://www.montebellochamber.org/events/details/d-i-y-t-shirt-making-class-08-22-2013-942
END:VEVENT

END:VCALENDAR
