BEGIN:VCALENDAR
VERSION:2.0
PRODID:-//ChamberMaster//Event Calendar 2.0//EN
METHOD:PUBLISH
X-PUBLISHED-TTL:P3D
REFRESH-INTERVAL:P3D
CALSCALE:GREGORIAN
BEGIN:VEVENT
DTSTART:20150524T200000Z
DTEND:20150525T010000Z
X-MICROSOFT-CDO-ALLDAYEVENT:FALSE
SUMMARY:Designated Exceptional Services for Independece (DESI)
DESCRIPTION:Designated Exceptional Services for Independence (DESI) is proud to share\n\nwith you information on our upcoming charitable "Tardeada" ~ An afternoon\n\ncharitable event.\n\n\n\nEntertainment includes: LA's Hottest Band Chico\, Andy Rojo ~Lead Singer\n\nfrom Bumptown\, DJ Looney Tunes\, and so much more!\n\n\n\nTo purchase tickets or get or more information about this event visit us at\n\nwww.desiserve.org or by calling Cassandra at (323)722-1880
X-ALT-DESC;FMTTYPE=text/html:<span style="color: rgb(80\, 0\, 80)\; font-family: &quot\;Arial&quot\;\,&quot\;sans-serif&quot\;\; font-size: 9.5pt\; mso-fareast-font-family: Calibri\; mso-fareast-theme-font: minor-latin\; mso-ansi-language: EN-US\; mso-fareast-language: EN-US\; mso-bidi-language: AR-SA\;">Designated Exceptional Services for Independence (DESI) is proud to share<br />\nwith you information on our upcoming charitable &quot\;Tardeada&quot\; ~ An afternoon<br />\ncharitable event.</span><br style="mso-special-character: line-break\;" />\n<br />\n<span style="font-size: 9.5pt\;"><span style="font-family: arial\,sans-serif\;"><span style="color: rgb(80\, 0\, 80)\;">Entertainment includes: LA&#39\;s Hottest Band Chico\, Andy Rojo ~Lead Singer<br />\nfrom Bumptown\, DJ Looney Tunes\, and so much more!<br />\n<br />\nTo purchase tickets or get or more information about this event visit us at</span></span></span><br />\n<span style="font-size: 12pt\;"><span style="font-family: georgia\,serif\;"><a href="http://www.desiserve.org/" target="_blank"><span style="font-size: 9.5pt\;"><span style="font-family: arial\,sans-serif\;"><span style="color: rgb(0\, 0\, 255)\;">www.desiserve.org</span></span></span></a></span></span><span style="font-size: 9.5pt\;"><span style="font-family: arial\,sans-serif\;"><span style="color: rgb(80\, 0\, 80)\;">&nbsp\;or by calling Cassandra at&nbsp\;</span></span></span><span style="font-size: 12pt\;"><span style="font-family: georgia\,serif\;"><a href="tel:%28323%29722-1880" value="+13237221880"><span style="font-size: 9.5pt\;"><span style="font-family: arial\,sans-serif\;"><span style="color: rgb(0\, 0\, 255)\;">(323)722-1880</span></span></span></a></span></span><br />\n<br />\n<br style="mso-special-character: line-break\;" />\n&nbsp\;
LOCATION:Steven's Steak House 5332 Steven's Place Commerce\, CA 90040
UID:e.1156.1396
SEQUENCE:3
DTSTAMP:20260419T202457Z
URL:https://www.montebellochamber.org/events/details/designated-exceptional-services-for-independece-desi-05-24-2015-1396
END:VEVENT

END:VCALENDAR
