BEGIN:VCALENDAR
VERSION:2.0
PRODID:-//ChamberMaster//Event Calendar 2.0//EN
METHOD:PUBLISH
X-PUBLISHED-TTL:P3D
REFRESH-INTERVAL:P3D
CALSCALE:GREGORIAN
BEGIN:VEVENT
DTSTART:20150326T190000Z
DTEND:20150326T203000Z
X-MICROSOFT-CDO-ALLDAYEVENT:FALSE
SUMMARY:Designated Exceptional Services for Independence Ribbon Cutting Ceremony
DESCRIPTION:Please join us for the ribbon cutting ceremony of Designated Exceptional Services for Independence!\n\n\n\nStep away for lunch and enjoy tasty treats while networking with your fellow chamber members. The perfect opportunity to exchange business cards\, build relationships and build business.\n\n\n\nThursday\, March 26\, 2014 at 12:00pm\n\n3526 W. Beverly Blvd\, Montebello\, CA 90640\n\n\n\nRSVP is recommended by March 23rd to Erica via e-mail to  erica@montebellochamber.org or by phone at (323) 721-1153
X-ALT-DESC;FMTTYPE=text/html:Please join us for the ribbon cutting ceremony of Designated Exceptional Services for Independence!<br />\n<br />\nStep away for lunch and enjoy tasty treats while networking with your fellow chamber members. The perfect opportunity to exchange business cards\, build relationships and build business.<br />\n<br />\nThursday\, March 26\, 2014 at 12:00pm<br />\n3526 W. Beverly Blvd\, Montebello\, CA 90640<br />\n<br />\nRSVP is recommended by March 23rd to Erica via e-mail to&nbsp\; erica@montebellochamber.org or by phone at (323) 721-1153
LOCATION:
UID:e.1156.1364
SEQUENCE:3
DTSTAMP:20260419T173810Z
URL:https://www.montebellochamber.org/events/details/designated-exceptional-services-for-independence-ribbon-cutting-ceremony-03-26-2015-1364
END:VEVENT

END:VCALENDAR
