BEGIN:VCALENDAR
VERSION:2.0
PRODID:-//ChamberMaster//Event Calendar 2.0//EN
METHOD:PUBLISH
X-PUBLISHED-TTL:P3D
REFRESH-INTERVAL:P3D
CALSCALE:GREGORIAN
BEGIN:VEVENT
DTSTART:20181103T003000Z
DTEND:20181103T040000Z
X-MICROSOFT-CDO-ALLDAYEVENT:FALSE
SUMMARY:Dia de los Muertos Annual Event
DESCRIPTION:Please join us in our Annual Dia De Los Muertos Event\, where we celebrate our departed loved ones.  Altar will be set up and We will be having Music\, and activites for kids\, vendors and Entertainment.  A Special Memorial service will begin at 6:30pm \n\nVendors Welcomed\, Please contact us!
X-ALT-DESC;FMTTYPE=text/html:Please join us in our Annual Dia De Los Muertos Event\, where we celebrate our departed loved ones.&nbsp\; Altar will be set up and We will be having Music\, and activites for kids\, vendors and Entertainment.&nbsp\; A Special Memorial service will begin at 6:30pm&nbsp\;<br />\nVendors Welcomed\, Please contact us!&nbsp\;
LOCATION:Funeraria del Angel Montebello 913 Whittier Blvd. Montebello\, CA 90640 323-728-2133
UID:e.1156.3093
SEQUENCE:3
DTSTAMP:20260419T173346Z
URL:https://www.montebellochamber.org/events/details/dia-de-los-muertos-annual-event-3093
END:VEVENT

END:VCALENDAR
