BEGIN:VCALENDAR
VERSION:2.0
PRODID:-//ChamberMaster//Event Calendar 2.0//EN
METHOD:PUBLISH
X-PUBLISHED-TTL:P3D
REFRESH-INTERVAL:P3D
CALSCALE:GREGORIAN
BEGIN:VEVENT
DTSTART:20191102T190000Z
DTEND:20191102T210000Z
X-MICROSOFT-CDO-ALLDAYEVENT:FALSE
SUMMARY:Dia De Los Muertos Event @ The Shops
DESCRIPTION:Join The Shops at Montebello for Dia De Los Muertos in Center Court!\n\n\n\nThe first 100 shoppers in line will receive a Dia de Los Muertos candle!\n\nCelebrate the Day of the Dead in Center Court with festive face painting\, costume contest ($500 worth in prizes)\, pan (sweet bread) de muerto samples + MORE\n\n\n\nBring the kids for a screening of Disney's "Coco\," crafts and giveaways.
X-ALT-DESC;FMTTYPE=text/html:Join The Shops at Montebello for Dia De Los Muertos in Center Court!<br />\n<br />\nThe first 100 shoppers in line will receive a Dia de Los Muertos candle!<br />\nCelebrate the Day of the Dead in Center Court with festive face painting\, costume contest ($500 worth in prizes)\, pan (sweet bread) de muerto samples + MORE<br />\n<br />\nBring the kids for a screening of Disney&#39\;s &quot\;Coco\,&quot\; crafts and giveaways.
LOCATION:The Shops at Montebello - Center Court 2134 Montebello Town Circle Montebello\, CA 90640
UID:e.1156.3459
SEQUENCE:3
DTSTAMP:20260419T172852Z
URL:https://www.montebellochamber.org/events/details/dia-de-los-muertos-event-the-shops-3459
END:VEVENT

END:VCALENDAR
