BEGIN:VCALENDAR
VERSION:2.0
PRODID:-//ChamberMaster//Event Calendar 2.0//EN
METHOD:PUBLISH
X-PUBLISHED-TTL:P3D
REFRESH-INTERVAL:P3D
CALSCALE:GREGORIAN
BEGIN:VEVENT
DTSTART:20120829T020000Z
DTEND:20120831T033000Z
X-MICROSOFT-CDO-ALLDAYEVENT:FALSE
SUMMARY:Dia de los Muertos Make-Up Classes
DESCRIPTION:Learn the face painting techniques of one of the most important religeous / cultural holidays of Mexico.  Dia de los Muertos showcases the artisitry of Indian cultures of old Mexico\, mixed with Spanish arrivals in the 1500's plus the ancient custom of remembering our deceased loved ones on November 2 following All Saints Day. \n\n        Taught by Denise Hagopian featuring make-Up by Ben Nye and Paradise you will learn how to analyze a piece of artwork\, scale it to the human face and apply like a master artist. Her fabulous techniques have simplified this difficult style. Each night will feature different eye patterns\, mouth designs and gothic scrolls while staying true to era colors and styles. Bring your own favorite design or practise with her favorites. Immerse yourself in this hands on\, 3 night session for teens and adults. No experience neccesary.
X-ALT-DESC;FMTTYPE=text/html:&nbsp\;&nbsp\;&nbsp\;&nbsp\; Learn the face painting techniques of one of the most important religeous / cultural holidays of Mexico.&nbsp\; Dia de los Muertos showcases the artisitry of&nbsp\;Indian&nbsp\;cultures of old Mexico\, mixed with&nbsp\;Spanish arrivals in the 1500&#39\;s&nbsp\;plus the&nbsp\;ancient custom of remembering our deceased loved ones on November 2 following All Saints Day.&nbsp\;<br />\n&nbsp\;&nbsp\;&nbsp\;&nbsp\;&nbsp\;&nbsp\; &nbsp\;Taught by Denise Hagopian featuring make-Up by Ben Nye and Paradise you will learn how to analyze a piece of artwork\, scale it to the human face and apply like a master artist. Her fabulous techniques have simplified this difficult style. Each night will feature different eye patterns\, mouth designs and gothic scrolls while staying true to era colors and styles. Bring your own favorite design or practise with her favorites. Immerse yourself in this hands on\, 3 night session for teens and adults. No experience neccesary.<br />\n<br />\n
LOCATION:Heavenly Choice Flowers and Events 534 N. Montebello Blvd. Montebello\, CA 90640
UID:e.1156.653
SEQUENCE:3
DTSTAMP:20260420T021156Z
URL:https://www.montebellochamber.org/events/details/dia-de-los-muertos-make-up-classes-08-28-2012-653
END:VEVENT

END:VCALENDAR
