BEGIN:VCALENDAR
VERSION:2.0
PRODID:-//ChamberMaster//Event Calendar 2.0//EN
METHOD:PUBLISH
X-PUBLISHED-TTL:P3D
REFRESH-INTERVAL:P3D
CALSCALE:GREGORIAN
BEGIN:VEVENT
DTSTART:20181201T183000Z
DTEND:20181201T193000Z
X-MICROSOFT-CDO-ALLDAYEVENT:FALSE
SUMMARY:Disney Jr. Playdate The Shops at Montebello
DESCRIPTION:Disney Jr. Playdate at The Shops at Montebello\n\nReservations for this can be made at Guest Services at The Shops at Montebello.
X-ALT-DESC;FMTTYPE=text/html:<strong>Disney Jr. Playdate at The Shops at Montebello</strong><br />\n<span style="font-family:calibri\,sans-serif\;"><span style="font-size:11.0pt\;">Reservations for this can be made at Guest Services at The Shops at Montebello.&nbsp\;</span></span>
LOCATION:The Shops at Montebello 2134 Montebello Town Center Dr. Montebello\, CA 90640
UID:e.1156.3114
SEQUENCE:3
DTSTAMP:20260419T173059Z
URL:https://www.montebellochamber.org/events/details/disney-jr-playdate-the-shops-at-montebello-3114
END:VEVENT

END:VCALENDAR
