BEGIN:VCALENDAR
VERSION:2.0
PRODID:-//ChamberMaster//Event Calendar 2.0//EN
METHOD:PUBLISH
X-PUBLISHED-TTL:P3D
REFRESH-INTERVAL:P3D
CALSCALE:GREGORIAN
BEGIN:VEVENT
DTSTART:20181003T010000Z
DTEND:20181003T030000Z
X-MICROSOFT-CDO-ALLDAYEVENT:FALSE
SUMMARY:Don Bosco Tech 2018 College Fair
DESCRIPTION:Don Bosco Technical Institute's 2018 College Fair\n\nSponsored by the Princeton Review\n\nFood Trucks will be available
X-ALT-DESC;FMTTYPE=text/html:Don Bosco Technical Institute&#39\;s 2018 College Fair<br />\nSponsored by the Princeton Review<br />\nFood Trucks will be available
LOCATION:DBTI Campus 1151 San Gabriel Blvd. Rosemead\, CA 91770
UID:e.1156.2851
SEQUENCE:3
DTSTAMP:20260419T185041Z
URL:https://www.montebellochamber.org/events/details/don-bosco-tech-2018-college-fair-2851
END:VEVENT

END:VCALENDAR
