BEGIN:VCALENDAR
VERSION:2.0
PRODID:-//ChamberMaster//Event Calendar 2.0//EN
METHOD:PUBLISH
X-PUBLISHED-TTL:P3D
REFRESH-INTERVAL:P3D
CALSCALE:GREGORIAN
BEGIN:VEVENT
DTSTART:20170630T150000Z
DTEND:20170630T210000Z
X-MICROSOFT-CDO-ALLDAYEVENT:FALSE
SUMMARY:Don Bosco Tech 28th Annual Golf Classic
DESCRIPTION:Don Bosco Technical Institute\n\n28th Annual Golf Classic\n\n8:00AM Shotgun
X-ALT-DESC;FMTTYPE=text/html:Don Bosco Technical Institute<br />\n28th Annual Golf Classic<br />\n8:00AM Shotgun
LOCATION:San Dimas Canyon Golf Course 2100 Terrebonne Ave. San Dimas\, CA 91773
UID:e.1156.1548
SEQUENCE:3
DTSTAMP:20260419T143134Z
URL:https://www.montebellochamber.org/events/details/don-bosco-tech-28th-annual-golf-classic-1548
END:VEVENT

END:VCALENDAR
