BEGIN:VCALENDAR
VERSION:2.0
PRODID:-//ChamberMaster//Event Calendar 2.0//EN
METHOD:PUBLISH
X-PUBLISHED-TTL:P3D
REFRESH-INTERVAL:P3D
CALSCALE:GREGORIAN
BEGIN:VEVENT
DTSTART:20141016T190000Z
DTEND:20141016T203000Z
X-MICROSOFT-CDO-ALLDAYEVENT:FALSE
SUMMARY:Dr. Martha Sanchez\, Optometrist
DESCRIPTION:Please join us for the Ribbon Cutting Ceremony of Dr. Martha Sanchez\, Optometrist\n\n\n\nStep away for lunch and enjoy tasty treats while networking with your fellow chamber members. The perfect opportunity to exchange business cards\, build relationship and build business.
X-ALT-DESC;FMTTYPE=text/html:Please join us for the Ribbon Cutting Ceremony of <strong>Dr. Martha Sanchez\, Optometrist</strong><br />\n<br />\nStep away for lunch and enjoy tasty treats while networking with your fellow chamber members. The perfect opportunity to exchange business cards\, build relationship and build business.
LOCATION:1818 W. Beverly Blvd\, Suite 105 Montebello\, CA 90640
UID:e.1156.1089
SEQUENCE:3
DTSTAMP:20260419T130240Z
URL:https://www.montebellochamber.org/events/details/dr-martha-sanchez-optometrist-10-16-2014-1089
END:VEVENT

END:VCALENDAR
