BEGIN:VCALENDAR
VERSION:2.0
PRODID:-//ChamberMaster//Event Calendar 2.0//EN
METHOD:PUBLISH
X-PUBLISHED-TTL:P3D
REFRESH-INTERVAL:P3D
CALSCALE:GREGORIAN
BEGIN:VEVENT
DTSTART:20120225T170000Z
DTEND:20120226T000000Z
X-MICROSOFT-CDO-ALLDAYEVENT:FALSE
SUMMARY:E-Waste Collection Event
DESCRIPTION:Help our City get rid of E-Waste the right way by sending it to a proper recycling process and not into the landfills!
X-ALT-DESC;FMTTYPE=text/html:<span style="font-size: 14px">Help our City get rid of E-Waste the right way by sending it to a proper recycling process and not into the landfills!</span>
LOCATION:Taylor Ranch Park (parking lot) 737 N. Montebello Blvd. Montebello\, Ca 90640
UID:e.1156.284
SEQUENCE:3
DTSTAMP:20260420T112621Z
URL:https://www.montebellochamber.org/events/details/e-waste-collection-event-02-25-2012-284
END:VEVENT

END:VCALENDAR
