BEGIN:VCALENDAR
VERSION:2.0
PRODID:-//ChamberMaster//Event Calendar 2.0//EN
METHOD:PUBLISH
X-PUBLISHED-TTL:P3D
REFRESH-INTERVAL:P3D
CALSCALE:GREGORIAN
BEGIN:VEVENT
DTSTART:20150418T160000Z
DTEND:20150418T230000Z
X-MICROSOFT-CDO-ALLDAYEVENT:FALSE
SUMMARY:E-Waste Recycling Event
DESCRIPTION:Free Electronic Waste Recycling Event\n\nHosted By:\n\nMontebello Chamber of Commerce & The City of Montebello\n\n\n\nPlease Note: There is a $5.00 service fee for Microwave Ovens.
X-ALT-DESC;FMTTYPE=text/html:Free Electronic Waste Recycling Event<br />\nHosted By:<br />\nMontebello Chamber of Commerce &amp\; The City of Montebello<br />\n<br />\nPlease Note: There is a $5.00 service fee for Microwave Ovens.
LOCATION:Montebello City Hall (Parking Lot) 1600 W. Beverly Blvd. Montebello\, CA 90640
UID:e.1156.1381
SEQUENCE:3
DTSTAMP:20260419T202257Z
URL:https://www.montebellochamber.org/events/details/e-waste-recycling-event-04-18-2015-1381
END:VEVENT

END:VCALENDAR
