BEGIN:VCALENDAR
VERSION:2.0
PRODID:-//ChamberMaster//Event Calendar 2.0//EN
METHOD:PUBLISH
X-PUBLISHED-TTL:P3D
REFRESH-INTERVAL:P3D
CALSCALE:GREGORIAN
BEGIN:VEVENT
DTSTART:20180421T170000Z
DTEND:20180421T210000Z
X-MICROSOFT-CDO-ALLDAYEVENT:FALSE
SUMMARY:Earth Day
DESCRIPTION:Recreation and Community Services Department\n\nEarth Day\n\n\n\nE-Waste Collection:\n\n9:00 a.m. - 2:00 p.m.\n\nCompost Station\, Recycling Station\, Healthy Eating Demos\n\n\n\nJumpers\, Games for Kids\, Art & Crafts\, Live Arts Demo\,\n\nFree Food\, Live Music\, Free Giveaways\,\n\nand Family Fun for Everyone!\n\n\n\nCome out and love your park!\n\nClean up begins at 9:00 a.m.
X-ALT-DESC;FMTTYPE=text/html:<div style="text-align: center\;">Recreation and Community Services Department<br />\n<strong>Earth Day</strong><br />\n<br />\nE-Waste Collection:<br />\n9:00 a.m. - 2:00 p.m.<br />\nCompost Station\, Recycling Station\, Healthy Eating Demos<br />\n<br />\nJumpers\, Games for Kids\, Art &amp\; Crafts\, Live Arts Demo\,<br />\nFree Food\, Live Music\, Free Giveaways\,<br />\nand Family Fun for Everyone!<br />\n<br />\nCome out and love your park!<br />\nClean up begins at 9:00 a.m.</div>\n
LOCATION:Montebello City Park 1301 W. Whittier Blvd. Montebello\, CA 90640
UID:e.1156.2558
SEQUENCE:3
DTSTAMP:20260419T143104Z
URL:https://www.montebellochamber.org/events/details/earth-day-2558
END:VEVENT

END:VCALENDAR
