BEGIN:VCALENDAR
VERSION:2.0
PRODID:-//ChamberMaster//Event Calendar 2.0//EN
METHOD:PUBLISH
X-PUBLISHED-TTL:P3D
REFRESH-INTERVAL:P3D
CALSCALE:GREGORIAN
BEGIN:VEVENT
DTSTART:20190421T170000Z
DTEND:20190421T220000Z
X-MICROSOFT-CDO-ALLDAYEVENT:FALSE
SUMMARY:Easter Brunch Buffet
DESCRIPTION:EASTER BRUNCH BUFFET...Gather with family & friends to enjoy your favorite culinary delights!! -Made to order omelettes\, eggs and waffles -Traditional breakfast side dishes -Carving station -Seafood bar -Pasta selections -Soup and salad bar -Assorted desserts and pastries -Endless Mimosas -Live Entertainment -Kids Easter egg hunt
X-ALT-DESC;FMTTYPE=text/html:EASTER BRUNCH BUFFET...Gather with family &amp\; friends to enjoy your favorite culinary delights!! -Made to order omelettes\, eggs and waffles -Traditional breakfast side dishes -Carving station -Seafood bar -Pasta selections -Soup and salad bar -Assorted desserts and pastries -Endless Mimosas -Live Entertainment -Kids Easter egg hunt&nbsp\;
LOCATION:DoubleTree by Hilton Los Angeles/Rosemead (Next to the Shops at Montebello/Mall) 888 Montebello Blvd. Rosemead\, CA 91770
UID:e.1156.3271
SEQUENCE:3
DTSTAMP:20260419T172344Z
URL:https://www.montebellochamber.org/events/details/easter-brunch-buffet-3271
END:VEVENT

END:VCALENDAR
