BEGIN:VCALENDAR
VERSION:2.0
PRODID:-//ChamberMaster//Event Calendar 2.0//EN
METHOD:PUBLISH
X-PUBLISHED-TTL:P3D
REFRESH-INTERVAL:P3D
CALSCALE:GREGORIAN
BEGIN:VEVENT
DTSTART:20190421T170000Z
DTEND:20190421T210000Z
X-MICROSOFT-CDO-ALLDAYEVENT:FALSE
SUMMARY:Easter Brunch-Steak 'n Stein Prix Fixe Menu
DESCRIPTION:Steak'n Stein Inn Offers Popular Prix Fixe Easter Brunch\n\nClearman's Steak'n Stein Inn in Pico Rivera is again offering its popular Easter Brunch this Sunday!  The Prix Fixe Easter Brunch begins with Clearman's house salad with red cabbage and cheese bread\, main courses offer chilaquiles verdes with eggs\, fried chicken and wafffles (add $3)\, country fried steak\, steak and eggs (add $4)\, western omelet and veggie scramble\, desserts and choclate mousse cake or orange sherbet.  Bottomless mimosas\, house wine\, fruit drinks and soft drinks will be served until 3pm.
X-ALT-DESC;FMTTYPE=text/html:<b>Steak&#39\;n Stein Inn Offers Popular Prix Fixe Easter Brunch</b><br />\nClearman&#39\;s Steak&#39\;n Stein Inn in Pico Rivera is again offering its popular Easter Brunch this Sunday!&nbsp\; The Prix Fixe Easter Brunch begins with Clearman&#39\;s house salad with red cabbage and cheese bread\, main courses offer chilaquiles verdes with eggs\, fried chicken and wafffles (add $3)\, country fried steak\, steak and eggs (add $4)\, western omelet and veggie scramble\, desserts and choclate mousse cake or orange sherbet.&nbsp\; Bottomless mimosas\, house wine\, fruit drinks and soft drinks will be served until 3pm.&nbsp\;&nbsp\;
LOCATION:Clearman's Steak 'n Stein 9545 E. Whittier Blvd. Pico Rivera\, CA 90660
UID:e.1156.3289
SEQUENCE:3
DTSTAMP:20260419T184400Z
URL:https://www.montebellochamber.org/events/details/easter-brunch-steak-n-stein-prix-fixe-menu-3289
END:VEVENT

END:VCALENDAR
