BEGIN:VCALENDAR
VERSION:2.0
PRODID:-//ChamberMaster//Event Calendar 2.0//EN
METHOD:PUBLISH
X-PUBLISHED-TTL:P3D
REFRESH-INTERVAL:P3D
CALSCALE:GREGORIAN
BEGIN:VEVENT
DTSTART;VALUE=DATE:20180302
DTEND;VALUE=DATE:20180401
TRANSP:TRANSPARENT
X-MICROSOFT-CDO-ALLDAYEVENT:TRUE
SUMMARY:Easter Bunny Photos
DESCRIPTION:Take a photo with the Easter Bunny\, March 2 - 31 in Center Court.  To reserve an appointment\, visit simonbunny.com.  Photo package pricing varies.  Purchase a photo package opening weekend and receive a special surprise\, while supplies last.
X-ALT-DESC;FMTTYPE=text/html:Take a photo with the Easter Bunny\, March 2 - 31 in Center Court.&nbsp\; To reserve an appointment\, visit <a href="https://www.bunnyfastpass.com/view/6409/the-shops-at-montebello" title="simonbunny.com">simonbunny.com</a>. &nbsp\;Photo package pricing varies.&nbsp\; Purchase a photo package opening weekend and receive a special surprise\, while supplies last.&nbsp\;
LOCATION:Center Court at The Shops at Montebello
UID:e.1156.2509
SEQUENCE:3
DTSTAMP:20260419T130222Z
URL:https://www.montebellochamber.org/events/details/easter-bunny-photos-2509
END:VEVENT

END:VCALENDAR
