BEGIN:VCALENDAR
VERSION:2.0
PRODID:-//ChamberMaster//Event Calendar 2.0//EN
METHOD:PUBLISH
X-PUBLISHED-TTL:P3D
REFRESH-INTERVAL:P3D
CALSCALE:GREGORIAN
BEGIN:VEVENT
DTSTART:20180401T160000Z
DTEND:20180401T210000Z
X-MICROSOFT-CDO-ALLDAYEVENT:FALSE
SUMMARY:Easter Sunday Brunch
DESCRIPTION:Join the DoubleTree by HIlton Rosemead for an Easter Sunday Brunch!
X-ALT-DESC;FMTTYPE=text/html:Join the DoubleTree by HIlton Rosemead&nbsp\;for an Easter Sunday Brunch!
LOCATION:DoubleTree by Hilton Los Angeles/Rosemead 888 Montebello Blvd. Rosemead\, CA 91770
UID:e.1156.2500
SEQUENCE:3
DTSTAMP:20260419T143030Z
URL:https://www.montebellochamber.org/events/details/easter-sunday-brunch-2500
END:VEVENT

END:VCALENDAR
