BEGIN:VCALENDAR
VERSION:2.0
PRODID:-//ChamberMaster//Event Calendar 2.0//EN
METHOD:PUBLISH
X-PUBLISHED-TTL:P3D
REFRESH-INTERVAL:P3D
CALSCALE:GREGORIAN
BEGIN:VEVENT
DTSTART:20130221T193000Z
DTEND:20130221T213000Z
X-MICROSOFT-CDO-ALLDAYEVENT:FALSE
SUMMARY:Economic Forecast 2013
DESCRIPTION:The Montebello Chamber of Commerce\n\nGovernmental Affairs Committee \n\nInvites you to attend\n\n\n\nThe 2013 Economic Forecast\n\nA look into the direction of our Economy\n\n\n\nFeaturing Keynote Speaker \n\nRobert A. Kleinhenz\, Ph.D.\n\n      LAEDC Chief Economist\n\n\n\nSponsored By: Metropolitan Water District & Southern California Edison\n\n\n\nFor more information\, or to register\, visit\n\n           www.MontebelloChamber.org
X-ALT-DESC;FMTTYPE=text/html:<strong>The Montebello Chamber of Commerce<br />\nGovernmental Affairs Committee </strong><br />\nInvites you to attend<br />\n<br />\n<strong><span style="color: rgb(0\, 0\, 128)\;">The 2013 Economic Forecast</span></strong><br />\n<span style="color: rgb(0\, 0\, 255)\;">A look into the direction of our Economy</span><br />\n<br />\n<strong><span style="color: rgb(165\, 42\, 42)\;">Featuring Keynote Speaker </span><br />\n<span style="color: rgb(0\, 0\, 128)\;">Robert A. Kleinhenz\, Ph.D.<br />\n&nbsp\;&nbsp\;&nbsp\;&nbsp\;&nbsp\;&nbsp\;LAEDC Chief Economist</span><br />\n<br />\nSponsored By: Metropolitan Water District &amp\; Southern California Edison</strong><br />\n<br />\n<span style="color: rgb(0\, 0\, 205)\;"><strong>For more information\, or to register\, visit<br />\n&nbsp\;&nbsp\;&nbsp\;&nbsp\;&nbsp\;&nbsp\;&nbsp\;&nbsp\;&nbsp\;&nbsp\;&nbsp\;www.MontebelloChamber.org<br />\n<br />\n</strong></span>
LOCATION:Quiet Cannon\, 901 N. Via San Clemente\, Montebello\, CA 90640 Cannoneer Room
UID:e.1156.680
SEQUENCE:3
DTSTAMP:20260419T172529Z
URL:https://www.montebellochamber.org/events/details/economic-forecast-2013-02-21-2013-680
END:VEVENT

END:VCALENDAR
