BEGIN:VCALENDAR
VERSION:2.0
PRODID:-//ChamberMaster//Event Calendar 2.0//EN
METHOD:PUBLISH
X-PUBLISHED-TTL:P3D
REFRESH-INTERVAL:P3D
CALSCALE:GREGORIAN
BEGIN:VEVENT
DTSTART:20130904T150000Z
DTEND:20130904T170000Z
X-MICROSOFT-CDO-ALLDAYEVENT:FALSE
SUMMARY:Educational Walk w/AGA "Medicare 101 Walk-In-The-Park"
DESCRIPTION:OPEN TO THE PUBLIC! We welcome the SENIORS of Montebello to join AGA for a "Walk-in-the-Park\, Educational Medicare 101" event. You will learn about important 2014 changes to your Medicare benefits\, and if you are a Medi-Medi card-holder\, there may be additional benefits to which you are entitled! Questions are welcomed\, so get your walking shoes and come on down water stations will be available. Bring-A-Friend and we will see YOU at the PARK
X-ALT-DESC;FMTTYPE=text/html:<span style="line-height: 115%\; font-family: &quot\;Calibri&quot\;\,&quot\;sans-serif&quot\;\; font-size: 11pt\; mso-fareast-font-family: Calibri\; mso-ansi-language: EN-US\; mso-fareast-language: EN-US\; mso-bidi-language: AR-SA\; mso-fareast-theme-font: minor-latin\; mso-ascii-theme-font: minor-latin\; mso-hansi-theme-font: minor-latin\; mso-bidi-font-family: &quot\;Times New Roman&quot\;\; mso-bidi-theme-font: minor-bidi\;"><font color="#000000">OPEN TO THE PUBLIC! We welcome the SENIORS of Montebello&nbsp\;to join AGA for a &ldquo\;<u>Walk-in-the-Park\, Educational Medicare 101&rdquo\;</u> event. You will learn about important 2014 changes to your Medicare benefits\, and if you are a Medi-Medi card-holder\, there may be additional benefits to which you are entitled! Questions are welcomed\, so get your walking shoes and come on down&hellip\;water stations will be available. Bring-A-Friend&nbsp\;and we will&nbsp\;see YOU at the PARK&hellip\;</font></span>
LOCATION:Montebello City Park\, 199 S Taylor Ave. Montebello\, 90640
UID:e.1156.937
SEQUENCE:3
DTSTAMP:20260419T173833Z
URL:https://www.montebellochamber.org/events/details/educational-walk-w-aga-medicare-101-walk-in-the-park-09-04-2013-937
END:VEVENT

END:VCALENDAR
