BEGIN:VCALENDAR
VERSION:2.0
PRODID:-//ChamberMaster//Event Calendar 2.0//EN
METHOD:PUBLISH
X-PUBLISHED-TTL:P3D
REFRESH-INTERVAL:P3D
CALSCALE:GREGORIAN
BEGIN:VEVENT
DTSTART:20190413T173000Z
DTEND:20190413T213000Z
X-MICROSOFT-CDO-ALLDAYEVENT:FALSE
SUMMARY:Eggstravaganza-City of Montebello Recreation & Community Services Department
DESCRIPTION:City of Montebello Recreation & Community Services Department presents EGGSTRAVAGANZA!!! Egg Hunt\, Food Trucks\, Jumpers\, Face Painting\, Live Music\, Game Booths\, Raffles\, Cheer Performance\, & a visit from Daisy Thumper Fluff the Bunny!!
X-ALT-DESC;FMTTYPE=text/html:City of Montebello Recreation &amp\; Community Services Department presents EGGSTRAVAGANZA!!! Egg Hunt\, Food Trucks\, Jumpers\, Face Painting\, Live Music\, Game Booths\, Raffles\, Cheer Performance\, &amp\; a visit from Daisy Thumper Fluff the Bunny!!&nbsp\;
LOCATION:Catherine Hensel Youth Center 236 George Hensel Drive Montebello\, CA 90640
UID:e.1156.3227
SEQUENCE:3
DTSTAMP:20260419T173955Z
URL:https://www.montebellochamber.org/events/details/eggstravaganza-city-of-montebello-recreation-community-services-department-3227
END:VEVENT

END:VCALENDAR
