BEGIN:VCALENDAR
VERSION:2.0
PRODID:-//ChamberMaster//Event Calendar 2.0//EN
METHOD:PUBLISH
X-PUBLISHED-TTL:P3D
REFRESH-INTERVAL:P3D
CALSCALE:GREGORIAN
BEGIN:VEVENT
DTSTART:20120621T000000Z
DTEND:20120621T040000Z
X-MICROSOFT-CDO-ALLDAYEVENT:FALSE
SUMMARY:El Clasificado a Wells Fargo presents Su Socio de Negocios Expo in Long Beach
DESCRIPTION:A conversation with Efra n Ferrer Entrepreneur and Founder of Strong Tie Insurance
X-ALT-DESC;FMTTYPE=text/html:A conversation with Efra&iacute\;n Ferrer Entrepreneur and Founder of Strong Tie Insurance 
LOCATION:628 Alamitos Avenue\, Long Beach\, CA 90802
UID:e.1156.639
SEQUENCE:3
DTSTAMP:20260420T065629Z
URL:https://www.montebellochamber.org/events/details/el-clasificado-a-wells-fargo-presents-su-socio-de-negocios-expo-in-long-beach-06-20-2012-639
END:VEVENT

END:VCALENDAR
