BEGIN:VCALENDAR
VERSION:2.0
PRODID:-//ChamberMaster//Event Calendar 2.0//EN
METHOD:PUBLISH
X-PUBLISHED-TTL:P3D
REFRESH-INTERVAL:P3D
CALSCALE:GREGORIAN
BEGIN:VEVENT
DTSTART:20121020T160000Z
DTEND:20121020T230000Z
X-MICROSOFT-CDO-ALLDAYEVENT:FALSE
SUMMARY:Electronic Waste Collection Event - October 2012
DESCRIPTION:Help our City get rid of E-Waste the right way by sending it to a proper recycling process and not into the landfills!\n\n\n\nWhat is E-Waste?\n\nE-Waste is any consumer electronic equipment that has reached its 'end-of-life' or 'end-of-usage'\, whether in full or non-working condition.  It includes most electronics or electric appliances with a cord or circuit board such as:\n\n\n\nComputer Monitors\, Television sets\, PC Systems\, Printers\, Laptops\, Copiers\, Scanners\, Fax Machines\, Toner Cartridges\, UPS & PDA's\, Power Supplies\, Main Frame Units\, Networking Equipment\, Mother Board Systems\, VCR/VCD/DVD Players\, Home Entertainment Systems\, Landline and Cellular Phones\, & Small Portable Devices.  We also accept car and forklift batteries.  There is a $5.00 service fee for Microwave Ovens.  We do not accept: Refrigerators\, Washer and Dryers\, Fluorescent Light Bulbs\, and Household Batteries.
X-ALT-DESC;FMTTYPE=text/html:Help our City get rid of E-Waste the right way by sending it to a proper recycling process and not into the landfills!<br />\n<br />\n<u>What is E-Waste?</u><br />\nE-Waste is any consumer electronic equipment that has reached its &#39\;end-of-life&#39\; or &#39\;end-of-usage&#39\;\, whether in full or non-working condition.&nbsp\;&nbsp\;It includes most electronics or electric appliances with a cord or circuit board such as:<br />\n<br />\nComputer Monitors\, Television sets\, PC Systems\, Printers\, Laptops\, Copiers\, Scanners\, Fax Machines\, Toner Cartridges\, UPS &amp\; PDA&#39\;s\, Power Supplies\, Main Frame Units\, Networking Equipment\, Mother Board Systems\, VCR/VCD/DVD Players\, Home Entertainment Systems\, Landline and Cellular Phones\, &amp\; Small Portable Devices.&nbsp\; We also accept car and forklift batteries.&nbsp\; There is a $5.00 service fee for Microwave Ovens.&nbsp\;<strong> We do not accept: Refrigerators\, Washer and Dryers\, Fluorescent Light Bulbs\, and Household Batteries.</strong>
LOCATION:Taylor Ranch Park (Parking Lot) 737 N. Montebello Blvd. Montebello\, CA 90640
UID:e.1156.655
SEQUENCE:3
DTSTAMP:20260419T231059Z
URL:https://www.montebellochamber.org/events/details/electronic-waste-collection-event-october-2012-10-20-2012-655
END:VEVENT

END:VCALENDAR
