BEGIN:VCALENDAR
VERSION:2.0
PRODID:-//ChamberMaster//Event Calendar 2.0//EN
METHOD:PUBLISH
X-PUBLISHED-TTL:P3D
REFRESH-INTERVAL:P3D
CALSCALE:GREGORIAN
BEGIN:VEVENT
DTSTART:20161012T170000Z
DTEND:20161012T210000Z
X-MICROSOFT-CDO-ALLDAYEVENT:FALSE
SUMMARY:Empire Cleaning Supply 80th Anniversary
DESCRIPTION:Empire Cleaning Supply celebrates its 80th Anniversary on Oct 12\, 2016. Business owners\, Cleaning/Janitorial contractors are welcome.
X-ALT-DESC;FMTTYPE=text/html:Empire Cleaning Supply celebrates its 80th Anniversary on Oct 12\, 2016. Business owners\, Cleaning/Janitorial contractors are welcome.
LOCATION:7733 Telegraph Road Montebello\, CA 90640
UID:e.1156.1505
SEQUENCE:3
DTSTAMP:20260419T160112Z
URL:https://www.montebellochamber.org/events/details/empire-cleaning-supply-80th-anniversary-1505
END:VEVENT

END:VCALENDAR
