BEGIN:VCALENDAR
VERSION:2.0
PRODID:-//ChamberMaster//Event Calendar 2.0//EN
METHOD:PUBLISH
X-PUBLISHED-TTL:P3D
REFRESH-INTERVAL:P3D
CALSCALE:GREGORIAN
BEGIN:VEVENT
DTSTART:20140924T170000Z
DTEND:20140924T210000Z
X-MICROSOFT-CDO-ALLDAYEVENT:FALSE
SUMMARY:Empire Cleaning Supply Grand Opening-Ribbon Cutting Ceremony
DESCRIPTION:You're invited to the Grand Opening of Empire Cleaning Supply!\n\nFree Food & Giveaways!\n\n \n\nFood Trucks Raffle Prizes Music Trade Show
X-ALT-DESC;FMTTYPE=text/html:<p><strong>You&#39\;re invited to the Grand Opening of Empire Cleaning Supply!<br />\nFree Food &amp\; Giveaways!</strong><br />\n&nbsp\;</p>\n\n<p><strong>Food Trucks Raffle Prizes Music Trade Show&nbsp\;&nbsp\;&nbsp\;&nbsp\;</strong></p>\n
LOCATION:7733 Telepgraph Road\, Montebello CA 90640
UID:e.1156.1086
SEQUENCE:3
DTSTAMP:20260419T130906Z
URL:https://www.montebellochamber.org/events/details/empire-cleaning-supply-grand-opening-ribbon-cutting-ceremony-09-24-2014-1086
END:VEVENT

END:VCALENDAR
