BEGIN:VCALENDAR
VERSION:2.0
PRODID:-//ChamberMaster//Event Calendar 2.0//EN
METHOD:PUBLISH
X-PUBLISHED-TTL:P3D
REFRESH-INTERVAL:P3D
CALSCALE:GREGORIAN
BEGIN:VEVENT
DTSTART:20140617T180000Z
DTEND:20140617T203000Z
X-MICROSOFT-CDO-ALLDAYEVENT:FALSE
SUMMARY:Entrepreneurship Series: Business Plan Pitching from Shark Tank Contestants
DESCRIPTION:Pitch like the Sharks: Business Plan Pitching from successful entrepreneurs and Shark Tank Contestants - Cousins Maine Lobster and Lollacup Join the discussion with Shark Tank contestants and owners of Cousins Maine Lobster\, Jim Tselikis and Sabin Lomac and Lollacup's Mark Lim\, as they pitch their business plan to you! The pitches will be moderated by Rey Ybarra\, multi-media talent and author of "Conversations with Shark Tank Winners". Get tips on starting your own business from some of LA's newest\, successful entrepreneurs!
X-ALT-DESC;FMTTYPE=text/html:Pitch like the Sharks: Business Plan Pitching from successful entrepreneurs and Shark Tank Contestants - Cousins Maine Lobster and Lollacup Join the discussion with Shark Tank contestants and owners of Cousins Maine Lobster\, Jim Tselikis and Sabin Lomac and Lollacup&#39\;s Mark Lim\, as they pitch their business plan to you! The pitches will be moderated by Rey Ybarra\, multi-media talent and author of &quot\;Conversations with Shark Tank Winners&quot\;. Get tips on starting your own business from some of LA&#39\;s newest\, successful entrepreneurs!
LOCATION:Pasadena Learning Center 299 N. Euclid Ave\, Suite 100 Pasadena\, CA 91101
UID:e.1156.1007
SEQUENCE:3
DTSTAMP:20260419T130908Z
URL:https://www.montebellochamber.org/events/details/entrepreneurship-series-business-plan-pitching-from-shark-tank-contestants-06-17-2014-1007
END:VEVENT

END:VCALENDAR
