BEGIN:VCALENDAR
VERSION:2.0
PRODID:-//ChamberMaster//Event Calendar 2.0//EN
METHOD:PUBLISH
X-PUBLISHED-TTL:P3D
REFRESH-INTERVAL:P3D
CALSCALE:GREGORIAN
BEGIN:VEVENT
DTSTART:20120217T200000Z
DTEND:20120217T210000Z
X-MICROSOFT-CDO-ALLDAYEVENT:FALSE
SUMMARY:Executive Board Meeting
DESCRIPTION:
X-ALT-DESC;FMTTYPE=text/html:
LOCATION:Montebello Chamber of Commerce 109 N. 19th Street Montebello\, Ca 90640
UID:e.1156.150
SEQUENCE:3
DTSTAMP:20260420T125549Z
URL:https://www.montebellochamber.org/events/details/executive-board-meeting-02-17-2012-150
END:VEVENT

END:VCALENDAR
