BEGIN:VCALENDAR
VERSION:2.0
PRODID:-//ChamberMaster//Event Calendar 2.0//EN
METHOD:PUBLISH
X-PUBLISHED-TTL:P3D
REFRESH-INTERVAL:P3D
CALSCALE:GREGORIAN
BEGIN:VEVENT
DTSTART:20180428T190000Z
DTEND:20180428T210000Z
X-MICROSOFT-CDO-ALLDAYEVENT:FALSE
SUMMARY:Face Painting Class
DESCRIPTION:Hands on Face Painting Classes\n\nSaturdays\n\n\n\nCheck out these dates:\n\nApril 14 Unicorns\n\nApril 21 Flowers & Glitter\n\nApril 28 Princess & Gems\n\nMay 19 Rainbow & Prisma\n\nJune 2 Sports\n\nJune 23 Butterflies
X-ALT-DESC;FMTTYPE=text/html:<div style="text-align: center\;">Hands on Face Painting Classes<br />\nSaturdays<br />\n<br />\nCheck out these dates:</div>\n\n<div>April 14 Unicorns<br />\nApril 21 Flowers &amp\; Glitter<br />\nApril 28 Princess &amp\; Gems<br />\nMay 19 Rainbow &amp\; Prisma<br />\nJune 2 Sports<br />\nJune 23 Butterflies&nbsp\;</div>\n
LOCATION:Heavenly Choice 534 N. Montebello Blvd. Montebello\, CA 90640
UID:e.1156.2547
SEQUENCE:3
DTSTAMP:20260419T143130Z
URL:https://www.montebellochamber.org/events/details/face-painting-class-04-28-2018-2547
END:VEVENT

END:VCALENDAR
