BEGIN:VCALENDAR
VERSION:2.0
PRODID:-//ChamberMaster//Event Calendar 2.0//EN
METHOD:PUBLISH
X-PUBLISHED-TTL:P3D
REFRESH-INTERVAL:P3D
CALSCALE:GREGORIAN
BEGIN:VEVENT
DTSTART:20150515T013000Z
DTEND:20150515T030000Z
X-MICROSOFT-CDO-ALLDAYEVENT:FALSE
SUMMARY:Facepainting Class Ben Nye/ Paradise
DESCRIPTION:Learn to Face paint for family fun or fundraising. Yes\, You can paint children's faces\, Make side money and save money with just a little training for birthday parties\, preschool events\, sports teams\, cheerleaders. Free Face Painting Class will teach with Ben Nye and Paradise brands which are the best paint quality available. Heavenly Choice is the only authorized dealer in the San Gabriel Valley.3 Days of classes. Thurs\, May 14 and Tues May 19 at 6:30 pm. Also Saturday\, May 16\, noon
X-ALT-DESC;FMTTYPE=text/html:Learn to Face paint for family fun or fundraising. Yes\, You can paint children&#39\;s faces\, Make side money and save money with just a little training for birthday parties\, preschool events\, sports teams\, cheerleaders. Free Face Painting Class will teach with Ben Nye and Paradise brands which are the best paint quality available. Heavenly Choice is the only authorized dealer in the San Gabriel Valley.3 Days of classes. Thurs\, May 14 and Tues May 19 at 6:30 pm. Also Saturday\, May 16\, noon
LOCATION:Heavenly Choice 534 N. Montebello Blvd. Montebello\, CA 90640
UID:e.1156.1397
SEQUENCE:3
DTSTAMP:20260419T202318Z
URL:https://www.montebellochamber.org/events/details/facepainting-class-ben-nye-paradise-05-14-2015-1397
END:VEVENT

END:VCALENDAR
