BEGIN:VCALENDAR
VERSION:2.0
PRODID:-//ChamberMaster//Event Calendar 2.0//EN
METHOD:PUBLISH
X-PUBLISHED-TTL:P3D
REFRESH-INTERVAL:P3D
CALSCALE:GREGORIAN
BEGIN:VEVENT
DTSTART:20180621T010000Z
DTEND:20180621T030000Z
X-MICROSOFT-CDO-ALLDAYEVENT:FALSE
SUMMARY:Fair Housing Workshop
DESCRIPTION:Housing Rights Center in partnership with the City of Montebello \n\nPresent a FREE Workshop\n\nJoin us if you have questions about: \n\n Fair Housing\n\nEvictions\n\nSecurity Deposits\n\nRent Increases\n\nRepairs.\n\n...and more!
X-ALT-DESC;FMTTYPE=text/html:<div style="text-align: center\;">Housing Rights Center in partnership with the City of Montebello&nbsp\;<br />\n<span style="color:#FF0000\;">Present a FREE Workshop</span><br />\nJoin us if you have questions about:&nbsp\;</div>\n\n<div style="text-align: center\;">&#8203\;Fair Housing<br />\nEvictions<br />\nSecurity Deposits<br />\nRent Increases<br />\nRepairs.<br />\n...and more!</div>\n
LOCATION:Montebello City Hall Training Room 1600 W. Beverly Blvd. Montebello\, CA 90640
UID:e.1156.2609
SEQUENCE:3
DTSTAMP:20260419T172443Z
URL:https://www.montebellochamber.org/events/details/fair-housing-workshop-2609
END:VEVENT

END:VCALENDAR
