BEGIN:VCALENDAR
VERSION:2.0
PRODID:-//ChamberMaster//Event Calendar 2.0//EN
METHOD:PUBLISH
X-PUBLISHED-TTL:P3D
REFRESH-INTERVAL:P3D
CALSCALE:GREGORIAN
BEGIN:VEVENT
DTSTART:20181110T180000Z
DTEND:20181110T210000Z
X-MICROSOFT-CDO-ALLDAYEVENT:FALSE
SUMMARY:Fall Health & Educational Festival
DESCRIPTION:Healthcare Partners invites you to their Fall Health & Educational Festival\n\nJoin us for this educational event on the importance of proper hygiene for cold and flu prevention.\n\nTaco cart - Refreshments - Mariachi - No-Cost flu shots
X-ALT-DESC;FMTTYPE=text/html:Healthcare Partners invites you to their Fall Health &amp\; Educational Festival<br />\nJoin us for this educational event on the importance of proper hygiene for cold and flu prevention.<br />\nTaco cart - Refreshments - Mariachi - No-Cost flu shots
LOCATION:HealthCare Partners 2603 Via Campo Montebello\, CA 90640
UID:e.1156.3097
SEQUENCE:3
DTSTAMP:20260419T173448Z
URL:https://www.montebellochamber.org/events/details/fall-health-educational-festival-3097
END:VEVENT

END:VCALENDAR
