BEGIN:VCALENDAR
VERSION:2.0
PRODID:-//ChamberMaster//Event Calendar 2.0//EN
METHOD:PUBLISH
X-PUBLISHED-TTL:P3D
REFRESH-INTERVAL:P3D
CALSCALE:GREGORIAN
BEGIN:VEVENT
DTSTART:20130515T013000Z
DTEND:20130515T024500Z
X-MICROSOFT-CDO-ALLDAYEVENT:FALSE
SUMMARY:Family Fun Event !
DESCRIPTION:May is Asian Pacific American Heritage Month. Celebrate with books and an art activity.
X-ALT-DESC;FMTTYPE=text/html:May is Asian Pacific American Heritage Month. Celebrate with books and an art activity.
LOCATION:Montebello Library 1550 W. Beverly Blvd Montebello\, CA 90640
UID:e.1156.701
SEQUENCE:3
DTSTAMP:20260419T130433Z
URL:https://www.montebellochamber.org/events/details/family-fun-event-05-14-2013-701
END:VEVENT

END:VCALENDAR
