BEGIN:VCALENDAR
VERSION:2.0
PRODID:-//ChamberMaster//Event Calendar 2.0//EN
METHOD:PUBLISH
X-PUBLISHED-TTL:P3D
REFRESH-INTERVAL:P3D
CALSCALE:GREGORIAN
BEGIN:VEVENT
DTSTART:20180408T180000Z
DTEND:20180408T220000Z
X-MICROSOFT-CDO-ALLDAYEVENT:FALSE
SUMMARY:Fashion Show & Luncheon
DESCRIPTION:Soroptimist International of Montebello Presents:\n\nAfternoon in Paris Fashion Show Extravaganza and Luncheon\n\n\n\nFashions\n\nLunch\n\nGive Away\n\nRaffles \n\nVendors\n\n\n\nFashions by Teri Medina \n\nIf you love bling you'll love "Really Great Stuff!"\n\n\n\nProceeds will go to our scholarships and programs
X-ALT-DESC;FMTTYPE=text/html:Soroptimist International of Montebello&nbsp\;Presents:<br />\nAfternoon in Paris Fashion Show Extravaganza and Luncheon<br />\n<br />\nFashions<br />\nLunch<br />\nGive Away<br />\nRaffles&nbsp\;<br />\nVendors<br />\n<br />\nFashions by Teri Medina&nbsp\;<br />\nIf you love bling you&#39\;ll love&nbsp\;<strong>&quot\;Really Great Stuff!&quot\;</strong><br />\n<br />\nProceeds will go to our scholarships and programs
LOCATION:Doubletree by Hilton 7320 Greenleaf Ave. Whittier\, CA 90602
UID:e.1156.2450
SEQUENCE:3
DTSTAMP:20260419T143419Z
URL:https://www.montebellochamber.org/events/details/fashion-show-luncheon-2450
END:VEVENT

END:VCALENDAR
