BEGIN:VCALENDAR
VERSION:2.0
PRODID:-//ChamberMaster//Event Calendar 2.0//EN
METHOD:PUBLISH
X-PUBLISHED-TTL:P3D
REFRESH-INTERVAL:P3D
CALSCALE:GREGORIAN
BEGIN:VEVENT
DTSTART:20180318T170000Z
DTEND:20180319T030000Z
X-MICROSOFT-CDO-ALLDAYEVENT:FALSE
SUMMARY:Feast of St. Joseph's Table
DESCRIPTION:The Table will be blessed on Saturday\, March 17th at 12:00 PM.\n\nFree pasta meal to everyone on both days!\n\nTraditional foods and desserts will also be available for purchase.\n\n \n\n Great Raffle Drawings:  Raffle Cash Prizes\, Painted Statue of St. Joseph\,\n\nand various other Fabulous Prizes.  \n\nRaffle Drawings will be held on Sunday\, March 18th at 7:30 p.m. \n\nWinners do not need to be present.\n\n \n\nPlease help by donating homemade breads\, cookies\, fresh fruit\, \n\nFresh vegetables\, fresh flowers\, etc.\n\nPlease bring to hall Saturday morning\, March 17th\n\n \n\nMonetary donations are greatly appreciated.\n\nAs a St. Joseph Table sponsor of $100 or more\, you will receive recognition prominently displayed at the event.\n\n \n\nHistory\n\n \n\nThe Italian tradition of the Feast of Saint Joseph originated many centuries ago.  Italians celebrated their delivery from famine and drought through the intercession of St. Joseph by building altar shaped crosses and filling them with foods from their crops for all to share\, in thanksgiving to God for his faithfulness during their moments of need.
X-ALT-DESC;FMTTYPE=text/html:<span style="font-size:14px\;"><strong>The Table will be blessed on Saturday\, March 17th at 12:00 PM.</strong><br />\n<strong><u>Free pasta meal to everyone on both days!</u></strong><br />\n<strong>Traditional foods and desserts will also be available for purchase.</strong><br />\n&nbsp\;<br />\n<strong>&nbsp\;Great Raffle Drawings:&nbsp\; Raffle Cash Prizes\, Painted Statue of St. Joseph\,</strong><br />\n<strong>and various other Fabulous Prizes.&nbsp\; </strong><br />\n<strong>Raffle Drawings will be held on Sunday\, March 18<sup>th</sup> at 7:30 p.m. </strong><br />\n<strong>Winners do not need to be present.</strong><br />\n&nbsp\;<br />\n<strong>Please help by donating homemade breads\, cookies\, fresh fruit\, </strong><br />\n<strong>Fresh vegetables\, fresh flowers\, etc.</strong><br />\n<strong>Please bring to hall Saturday morning\, <u>March 17th</u></strong><br />\n&nbsp\;<br />\n<strong>Monetary donations are greatly appreciated.</strong><br />\nAs a St. Joseph Table sponsor of $100 or more\, you will receive recognition prominently displayed at the event.<br />\n&nbsp\;<br />\n<strong>History</strong><br />\n&nbsp\;<br />\n<strong>The Italian tradition of the Feast of Saint Joseph originated many centuries ago.&nbsp\; Italians celebrated their delivery from famine and drought through the intercession of St. Joseph by building altar shaped crosses and filling them with foods from their crops for all to share\, in thanksgiving to God for his faithfulness during their moments of need</strong>.</span>\n\n<h2 align="left" style="margin-right:0.5in\;">&nbsp\;</h2>\n
LOCATION:St. Benedict Church Parish Hall 1022 West Cleveland Avenue Montebello\, CA 90640
UID:e.1156.2473
SEQUENCE:3
DTSTAMP:20260419T130432Z
URL:https://www.montebellochamber.org/events/details/feast-of-st-joseph-s-table-03-18-2018-2473
END:VEVENT

END:VCALENDAR
