BEGIN:VCALENDAR
VERSION:2.0
PRODID:-//ChamberMaster//Event Calendar 2.0//EN
METHOD:PUBLISH
X-PUBLISHED-TTL:P3D
REFRESH-INTERVAL:P3D
CALSCALE:GREGORIAN
BEGIN:VEVENT
DTSTART:20190622T170000Z
DTEND:20190622T210000Z
X-MICROSOFT-CDO-ALLDAYEVENT:FALSE
SUMMARY:Festival Celebrating Beverly Hospital's 70th Anniversary
DESCRIPTION:Beverly Hospital's 70th Anniversary Celebration\n\nCelebrating 70 years of excellence in the community\n\n\n\nJoin in celebrating Beverly Hospital's 70th birthday!  Come together with the community and enjoy the festivities:\n\n	Raffle prizes for attendees\n	Food vendors\n	Free health screenings\n	Meet community partners\n	Enjoy music and games\n	Tours of newly renovated Emergency Care Center\n\n\n\nRSVP by clicking on the web link to received a free event gift! (must have registered and be present on day of event to receive free gift)\n\n\n\nSponsorship opportunities available.  Sponsorship perks include booth at event and company logo on volunteer t-shirts among other benefits.
X-ALT-DESC;FMTTYPE=text/html:Beverly Hospital&#39\;s 70th Anniversary Celebration<br />\nCelebrating 70 years of excellence in the community<br />\n<br />\nJoin in celebrating Beverly Hospital&#39\;s 70th birthday!&nbsp\; Come together with the community and enjoy the festivities:\n<ul>\n	<li>Raffle prizes for attendees</li>\n	<li>Food vendors</li>\n	<li>Free health screenings</li>\n	<li>Meet community partners</li>\n	<li>Enjoy music and games</li>\n	<li>Tours of newly renovated Emergency Care Center</li>\n</ul>\n<br />\nRSVP by clicking on the web link to received a free event gift! (must have registered and be present on day of event to receive free gift)<br />\n<br />\nSponsorship opportunities available.&nbsp\; Sponsorship perks include booth at event and company logo on volunteer t-shirts among other benefits.
LOCATION:Beverly Hospital 309 W. Beverly Blvd. Montebello\, CA 90640 Parking lot in front of Hensel Maternity Ceneter (4th St./Beverly Blvd.)
UID:e.1156.3324
SEQUENCE:3
DTSTAMP:20260419T130704Z
URL:https://www.montebellochamber.org/events/details/festival-celebrating-beverly-hospital-s-70th-anniversary-3324
END:VEVENT

END:VCALENDAR
