BEGIN:VCALENDAR
VERSION:2.0
PRODID:-//ChamberMaster//Event Calendar 2.0//EN
METHOD:PUBLISH
X-PUBLISHED-TTL:P3D
REFRESH-INTERVAL:P3D
CALSCALE:GREGORIAN
BEGIN:VEVENT
DTSTART:20200112T010000Z
DTEND:20200112T070000Z
X-MICROSOFT-CDO-ALLDAYEVENT:FALSE
SUMMARY:Fire Fresh Pizza at Angry Horse Brewing
DESCRIPTION:Pizza night is back! Catch Fire Fresh Pizza on Saturday\, Jan 11th. Enjoy a wood fired neapolitan style pizza starting at 5pm.
X-ALT-DESC;FMTTYPE=text/html:<span>Pizza night is back! Catch <a href="https://www.facebook.com/firefreshpizza/" target="_blank">Fire Fresh Pizza</a> on Saturday\, Jan 11th. Enjoy a wood fired neapolitan style pizza starting at 5pm. </span>
LOCATION:Angry Horse Brewing 603 W. Whittier Blvd. Montebello\, California 90640
UID:e.1156.3553
SEQUENCE:3
DTSTAMP:20260419T130525Z
URL:https://www.montebellochamber.org/events/details/fire-fresh-pizza-at-angry-horse-brewing-3553
END:VEVENT

END:VCALENDAR
