BEGIN:VCALENDAR
VERSION:2.0
PRODID:-//ChamberMaster//Event Calendar 2.0//EN
METHOD:PUBLISH
X-PUBLISHED-TTL:P3D
REFRESH-INTERVAL:P3D
CALSCALE:GREGORIAN
BEGIN:VEVENT
DTSTART:20190113T010000Z
DTEND:20190113T060000Z
X-MICROSOFT-CDO-ALLDAYEVENT:FALSE
SUMMARY:Food Truck Night at Angry Horse Brewing
DESCRIPTION:Tortas Las Jarochitas will be stopping by the taproom.  She will be parked out back starting at 5pm.  Tortas\, Burritos\, Tacos\, Quesadillas.. you name it\, she's got it.
X-ALT-DESC;FMTTYPE=text/html:Tortas Las Jarochitas will be stopping by the taproom.&nbsp\; She will be parked out back starting at 5pm.&nbsp\; Tortas\, Burritos\, Tacos\, Quesadillas.. you name it\, she&#39\;s got it.&nbsp\;&nbsp\;
LOCATION:Angry Horse Brewing 603 West Whittier Blvd. Montebello\, CA 90640
UID:e.1156.3154
SEQUENCE:3
DTSTAMP:20260419T160640Z
URL:https://www.montebellochamber.org/events/details/food-truck-night-at-angry-horse-brewing-3154
END:VEVENT

END:VCALENDAR
