BEGIN:VCALENDAR
VERSION:2.0
PRODID:-//ChamberMaster//Event Calendar 2.0//EN
METHOD:PUBLISH
X-PUBLISHED-TTL:P3D
REFRESH-INTERVAL:P3D
CALSCALE:GREGORIAN
BEGIN:VEVENT
DTSTART:20181215T183000Z
DTEND:20181215T210000Z
X-MICROSOFT-CDO-ALLDAYEVENT:FALSE
SUMMARY:Free Christmas Celebration
DESCRIPTION:Miracle on Maple St. \n\nFree Christmas Celebration\n\nEveryone is Welcome\n\nFree Toys & Gifts - Groceries - Clothing - Hair Cuts - Community Resource Booths - Face Painting - Music - Healthy Living - Dental Information - Other Free Resources
X-ALT-DESC;FMTTYPE=text/html:<span style="color:#B22222\;"><strong>Miracle on Maple St</strong>.&nbsp\;</span><br />\n<span style="color:#000000\;"><em>Free</em> </span><strong><span style="color:#006400\;">Christmas Celebration</span></strong><br />\n<span style="color:#B22222\;">Everyone is Welcome</span><br />\n<span style="color:#000000\;">Free Toys &amp\; Gifts - Groceries - Clothing - Hair Cuts - Community Resource Booths - Face Painting - Music - Healthy Living - Dental Information - Other Free Resources</span><br />\n&nbsp\;
LOCATION:Heart of Compassion Distribution Food Bank 600 S. Maple Ave. Montebello\, CA 90640
UID:e.1156.3131
SEQUENCE:3
DTSTAMP:20260419T155958Z
URL:https://www.montebellochamber.org/events/details/free-christmas-celebration-3131
END:VEVENT

END:VCALENDAR
