BEGIN:VCALENDAR
VERSION:2.0
PRODID:-//ChamberMaster//Event Calendar 2.0//EN
METHOD:PUBLISH
X-PUBLISHED-TTL:P3D
REFRESH-INTERVAL:P3D
CALSCALE:GREGORIAN
BEGIN:VEVENT
DTSTART:20180519T160000Z
DTEND:20180519T190000Z
X-MICROSOFT-CDO-ALLDAYEVENT:FALSE
SUMMARY:FREE City Cycling Class
DESCRIPTION:Want to feel more comfortable riding on city streets? Learn more about the rules of the road? Or how to set up your bike to commute to work/school?\n\n\n\nBikeSGV's City Cycling course is broken into three parts to help you gain more confidence on your bike:\n\n\n	In-class presentation on the rules of the road while on a bicycle and useful equipment\;\n	On-bike drills away from cars to improve bicycle handling and safety maneuvers\; and\n	A short group ride to put skills covered into use on City streets.\n\n\nImportant Information:\n\n\n	Please bring a working bicycle and helmet. Be sure to check tire pressure prior to arriving. There will be very limited time for bike inspection.\n	If you need to BORROW a bicycle\, please fill out the FREE REGISTRATION\, NEED A LOANER BIKE ticket section. You DO NOT need to fill out the Free registration section IF you fill out the FREE REGISTRATION\; NEED A LOANER BIKE TICKET.\n	Participants 17 and under must have parents fill out a waiver prior to attending the class.\n\n\n\n\nBeginners or advanced riders welcome!
X-ALT-DESC;FMTTYPE=text/html:<p style="margin: 0px\; padding: 0px\; color: rgb(102\, 106\, 115)\; font-family: &quot\;Benton Sans&quot\;\, -apple-system\, BlinkMacSystemFont\, Roboto\, &quot\;Helvetica Neue&quot\;\, Helvetica\, Tahoma\, Arial\, sans-serif\; font-size: 15px\; letter-spacing: 0.5px\;"><span style="padding-top: 0px\;"><em style="padding-top: 0px\;"><span style="font-weight: 700\; padding-top: 0px\;">Want to feel more comfortable riding on city streets?</span></em>&nbsp\;<em><span style="font-weight: 700\; padding-top: 0px\;">Learn more about the rules of the road? Or how to set up your bike to commute to work/school?</span></em><br />\n<br />\nBikeSGV&#39\;s City Cycling course is broken into three parts to help you gain more confidence on your bike:</span></p>\n\n<ol style="margin: 0px\; padding-top: 10px\; padding-right: 0px\; padding-left: 2em\; list-style-position: initial\; list-style-image: initial\; color: rgb(102\, 106\, 115)\; font-family: &quot\;Benton Sans&quot\;\, -apple-system\, BlinkMacSystemFont\, Roboto\, &quot\;Helvetica Neue&quot\;\, Helvetica\, Tahoma\, Arial\, sans-serif\; font-size: 15px\; letter-spacing: 0.5px\;">\n	<li style="margin: 0px\; padding: 0px\;"><span style="padding-top: 0px\;">In-class presentation on the rules of the road while on a bicycle and useful equipment\;</span></li>\n	<li style="margin: 0px\; padding: 5px 0px 0px\;"><span style="padding-top: 0px\;">On-bike drills away from cars to improve bicycle handling and safety maneuvers\; and</span></li>\n	<li style="margin: 0px\; padding: 5px 0px 0px\;"><span style="padding-top: 0px\;">A short group ride to put skills covered into use on City streets.</span></li>\n</ol>\n\n<p style="margin: 0px\; padding: 10px 0px 0px\; color: rgb(102\, 106\, 115)\; font-family: &quot\;Benton Sans&quot\;\, -apple-system\, BlinkMacSystemFont\, Roboto\, &quot\;Helvetica Neue&quot\;\, Helvetica\, Tahoma\, Arial\, sans-serif\; font-size: 15px\; letter-spacing: 0.5px\;"><span style="padding-top: 0px\;"><span style="padding-top: 0px\;"><span style="font-weight: 700\; padding-top: 0px\;">Important Information:</span></span></span></p>\n\n<ol style="margin: 0px\; padding-top: 10px\; padding-right: 0px\; padding-left: 2em\; list-style-position: initial\; list-style-image: initial\; color: rgb(102\, 106\, 115)\; font-family: &quot\;Benton Sans&quot\;\, -apple-system\, BlinkMacSystemFont\, Roboto\, &quot\;Helvetica Neue&quot\;\, Helvetica\, Tahoma\, Arial\, sans-serif\; font-size: 15px\; letter-spacing: 0.5px\;">\n	<li style="margin: 0px\; padding: 0px\;"><span style="padding-top: 0px\;"><span style="padding-top: 0px\;"><span style="font-weight: 700\; padding-top: 0px\;">Please bring a working bicycle and helmet. Be sure to check tire pressure prior to arriving. There will be very limited time for bike inspection.</span></span></span></li>\n	<li style="margin: 0px\; padding: 5px 0px 0px\;"><span style="padding-top: 0px\;"><span style="padding-top: 0px\;"><span style="font-weight: 700\; padding-top: 0px\;">If you need to BORROW a bicycle\, please fill out the FREE REGISTRATION\, NEED A LOANER BIKE ticket section. You DO NOT need to fill out the Free registration section IF you fill out the FREE REGISTRATION\; NEED A LOANER BIKE TICKET.</span></span></span></li>\n	<li style="margin: 0px\; padding: 5px 0px 0px\;"><span style="padding-top: 0px\;">Participants 17 and under must have parents fill out a waiver prior to attending the class.</span></li>\n</ol>\n\n<div style="margin: 0px\; padding: 5px 0px 0px\;"><br />\n<span style="color: rgb(102\, 106\, 115)\; font-family: &quot\;Benton Sans&quot\;\, -apple-system\, BlinkMacSystemFont\, Roboto\, &quot\;Helvetica Neue&quot\;\, Helvetica\, Tahoma\, Arial\, sans-serif\; font-size: 15px\; letter-spacing: 0.5px\;">Beginners or advanced riders welcome!</span></div>\n
LOCATION:Henry Acuna Recreation Center 1700 W Victoria Ave. Montebello 90640
UID:e.1156.2584
SEQUENCE:3
DTSTAMP:20260419T160046Z
URL:https://www.montebellochamber.org/events/details/free-city-cycling-class-2584
END:VEVENT

END:VCALENDAR
