BEGIN:VCALENDAR
VERSION:2.0
PRODID:-//ChamberMaster//Event Calendar 2.0//EN
METHOD:PUBLISH
X-PUBLISHED-TTL:P3D
REFRESH-INTERVAL:P3D
CALSCALE:GREGORIAN
BEGIN:VEVENT
DTSTART;VALUE=DATE:20180605
DTEND;VALUE=DATE:20180606
TRANSP:TRANSPARENT
X-MICROSOFT-CDO-ALLDAYEVENT:TRUE
SUMMARY:Free CPR Lessons
DESCRIPTION:Come join your Montebello FireFighters and learn how to save a life! On Tuesday\, June 5th from 10am - 11:30 and 2pm - 4pm you can learn "hands only" CPR for FREE! Come on by to Fire stateion 55!
X-ALT-DESC;FMTTYPE=text/html:Come join your Montebello FireFighters and learn how to save a life! On Tuesday\, June 5th from 10am - 11:30 and 2pm - 4pm&nbsp\;you can learn &quot\;hands only&quot\; CPR for FREE! Come on by to Fire stateion&nbsp\;55!
LOCATION:Fire Station 55 600 N. Montebello Blvd.
UID:e.1156.2599
SEQUENCE:3
DTSTAMP:20260419T172351Z
URL:https://www.montebellochamber.org/events/details/free-cpr-lessons-2599
END:VEVENT

END:VCALENDAR
