BEGIN:VCALENDAR
VERSION:2.0
PRODID:-//ChamberMaster//Event Calendar 2.0//EN
METHOD:PUBLISH
X-PUBLISHED-TTL:P3D
REFRESH-INTERVAL:P3D
CALSCALE:GREGORIAN
BEGIN:VEVENT
DTSTART:20130818T200000Z
DTEND:20130818T210000Z
X-MICROSOFT-CDO-ALLDAYEVENT:FALSE
SUMMARY:FREE Dia De Los Muertos Make-Up Class
DESCRIPTION:Today we start with traditional Dia De Los Muertos Eyes & Teeth\n\n\n\nUsing the finest Make-Up from Ben Nye & Paradise / Mehron\n\n\n\nLearn to draw your design flat & adapt to the contours of the face\n\n\n\nChoose the right brush size & technique\n\n\n\nEye Sockets and Mouth are the Main Focal Points
X-ALT-DESC;FMTTYPE=text/html:<strong><span style="background-color: rgb(0\, 255\, 0)\;">Today we start with traditional Dia De Los Muertos Eyes &amp\; Teeth</span><br />\n<br />\nUsing the finest Make-Up from Ben Nye &amp\; Paradise / Mehron<br />\n<br />\nLearn to draw your design flat &amp\; adapt to the contours of the face<br />\n<br />\nChoose the right brush size &amp\; technique<br />\n<br />\n<span style="color: rgb(255\, 0\, 0)\;">Eye Sockets and Mouth are the Main Focal Points</span></strong><br />\n
LOCATION:Heavenly Choice 534 N. Montebello Blvd. Montebello\, CA 90640
UID:e.1156.935
SEQUENCE:3
DTSTAMP:20260419T172855Z
URL:https://www.montebellochamber.org/events/details/free-dia-de-los-muertos-make-up-class-08-18-2013-935
END:VEVENT

END:VCALENDAR
