BEGIN:VCALENDAR
VERSION:2.0
PRODID:-//ChamberMaster//Event Calendar 2.0//EN
METHOD:PUBLISH
X-PUBLISHED-TTL:P3D
REFRESH-INTERVAL:P3D
CALSCALE:GREGORIAN
BEGIN:VEVENT
DTSTART:20130822T020000Z
DTEND:20130822T030000Z
X-MICROSOFT-CDO-ALLDAYEVENT:FALSE
SUMMARY:FREE Dia De Los Muertos Make-Up Class
DESCRIPTION:Todays class specializes in face scrolls\, embellishments\, mouth details & glitter accents.\n\n\n\nWhich brush techniques to choose\, size and colors to contour the face to flat look\n\n\n\nTraditional or stylized this amazing art form works best with Ben Nye Make-Up or Mehron Paradise\n\n\n\nUse the BEST Make-Up for the Best Results\n\n\n\nA must class for artists
X-ALT-DESC;FMTTYPE=text/html:Todays class specializes in face scrolls\, embellishments\, mouth details &amp\; glitter accents.<br />\n<br />\nWhich brush techniques to choose\, size and colors to contour the face to flat look<br />\n<br />\nTraditional or stylized this amazing art form works best with Ben Nye Make-Up or Mehron Paradise<br />\n<br />\nUse the BEST Make-Up for the Best Results<br />\n<br />\nA must class for artists
LOCATION:Heavenly Choice Your Make-Up Headquarters 534 N. Montebello Blvd. Montebello\, CA 90640
UID:e.1156.936
SEQUENCE:3
DTSTAMP:20260419T160226Z
URL:https://www.montebellochamber.org/events/details/free-dia-de-los-muertos-make-up-class-08-21-2013-936
END:VEVENT

END:VCALENDAR
