BEGIN:VCALENDAR
VERSION:2.0
PRODID:-//ChamberMaster//Event Calendar 2.0//EN
METHOD:PUBLISH
X-PUBLISHED-TTL:P3D
REFRESH-INTERVAL:P3D
CALSCALE:GREGORIAN
BEGIN:VEVENT
DTSTART:20130901T013000Z
DTEND:20130901T030000Z
X-MICROSOFT-CDO-ALLDAYEVENT:FALSE
SUMMARY:FREE Dia De Los Muertos Make-Up Class
DESCRIPTION:1 hour demonstration class Featuring EYE techniques for dia de los muertos or day of the dead.\n\nReservations not required. send an email to heavenlychoicew@att.net To receive or complete class schedule by email. We use top studio quality make-up including Ben Nye\, Paradise\, Wolf Brothers & Cinema Secrets.\n\n\n\nSome of our other classes include:\n\nSpecial EFX.... Scars... Bruises... Vampiere Bites... Bullet Holes... Burn Scar... Blood...\n\nCharacters include:    Spiderman\, Hulk\, Clown\, Elvira\, Dracula\,\n\n\n\nRoaring 20's & 30's eyes and styling ThursdayOct\n\n\n\nZombie Thon  Oct. 21 st - Oct.26\n\n\n\nDia de Los Muertos Oct 27 - Nov 3
X-ALT-DESC;FMTTYPE=text/html:1 hour demonstration class Featuring EYE techniques for dia de los muertos or day of the dead.<br />\nReservations not required. send an email to heavenlychoicew@att.net To receive or complete class schedule by email. We use top studio quality make-up including Ben Nye\, Paradise\, Wolf Brothers &amp\; Cinema Secrets.<br />\n<br />\nSome of our other classes include:<br />\nSpecial EFX.... Scars... Bruises... Vampiere Bites... Bullet Holes... Burn Scar... Blood...<br />\nCharacters include:&nbsp\;&nbsp\;&nbsp\; Spiderman\, Hulk\, Clown\, Elvira\, Dracula\,<br />\n<br />\nRoaring 20&#39\;s &amp\; 30&#39\;s eyes and styling ThursdayOct<br />\n<br />\nZombie Thon&nbsp\; Oct. 21 st - Oct.26<br />\n<br />\nDia de Los Muertos Oct 27 - Nov 3
LOCATION:Heavenly Choice 534 N. Montebello Blvd. Montebello\, CA 90640
UID:e.1156.951
SEQUENCE:3
DTSTAMP:20260419T160224Z
URL:https://www.montebellochamber.org/events/details/free-dia-de-los-muertos-make-up-class-08-31-2013-951
END:VEVENT

END:VCALENDAR
