BEGIN:VCALENDAR
VERSION:2.0
PRODID:-//ChamberMaster//Event Calendar 2.0//EN
METHOD:PUBLISH
X-PUBLISHED-TTL:P3D
REFRESH-INTERVAL:P3D
CALSCALE:GREGORIAN
BEGIN:VEVENT
DTSTART:20180915T170000Z
DTEND:20180915T190000Z
X-MICROSOFT-CDO-ALLDAYEVENT:FALSE
SUMMARY:Free Down Payment Assistance Home Buying Workshop
DESCRIPTION:Finance of America\, LLC is hosting a \n\nFree Down Payment Assistance Home Buying Workshop\n\n\n\nHome ownership is a dream for many.  For most a big concern is coming up with a large down payment.  Well we have a solution.  Let us show you how you can make that dream a reality through the #Calhfa and #Chenoa programs.\n\n\n\nDuring our FREE 2 hr. workshop you will learn about:\n\n	Steps on becoming a homeowner\n	How to apply for a loan and what option is best for you\n	Truth and myths about your credit score\n	Closing cost assistance and low downpayment programs that never have to be repaid\n	Why you need a realtor by your side during the process\n\nIf you are thinking of buying your home within the next 12 months\, then this workshop will offer valuable information on how to start your journey.\n\n\n\nPlease join Rosario Lopez with Finance of America and her team of realtors\, credit repair\, insurance\, and inspectors to learn how these programs can benefit you.
X-ALT-DESC;FMTTYPE=text/html:Finance of America\, LLC is hosting a&nbsp\;<br />\nFree Down Payment Assistance Home Buying Workshop<br />\n<br />\nHome ownership is a dream for many.&nbsp\; For most a big concern is coming up with a large down payment.&nbsp\; Well we have a solution.&nbsp\; Let us show you how you can make that dream a reality through the #Calhfa and #Chenoa programs.<br />\n<br />\nDuring our FREE 2 hr. workshop you will learn about:\n<ul>\n	<li>Steps on becoming a homeowner</li>\n	<li>How to apply for a loan and what option is best for you</li>\n	<li>Truth and myths about your credit score</li>\n	<li>Closing cost assistance and low downpayment programs that never have to be repaid</li>\n	<li>Why you need a realtor by your side during the process</li>\n</ul>\nIf you are thinking of buying your home within the next 12 months\, then this workshop will offer valuable information on how to start your journey.<br />\n<br />\nPlease join Rosario Lopez with Finance of America and her team of realtors\, credit repair\, insurance\, and inspectors to learn how these programs can benefit you.
LOCATION:Finance of America\, LLC 420 N. Montebello Blvd. - Suite 100 Montebello\, CA 90640
UID:e.1156.2858
SEQUENCE:3
DTSTAMP:20260419T215226Z
URL:https://www.montebellochamber.org/events/details/free-down-payment-assistance-home-buying-workshop-2858
END:VEVENT

END:VCALENDAR
