BEGIN:VCALENDAR
VERSION:2.0
PRODID:-//ChamberMaster//Event Calendar 2.0//EN
METHOD:PUBLISH
X-PUBLISHED-TTL:P3D
REFRESH-INTERVAL:P3D
CALSCALE:GREGORIAN
BEGIN:VEVENT
DTSTART:20130929T160000Z
DTEND:20130929T230000Z
X-MICROSOFT-CDO-ALLDAYEVENT:FALSE
SUMMARY:Free E-Waste Collection Event
DESCRIPTION:Free Electronic Waste (E-Waste) Collection Event\n\n	Help our City get rid of E-Waste the right way by sending it to a proper recycling process and not into the landfills!\n\n	\n		\n			Electronic discard is one of the fastest growing segments of this nations waste stream.\n		\n			56% of American households have functional e-products that they no longer use.\n		\n			70% of heavy metals\, 40% of lead and mercury contents found in  today's landfills come from E-Waste.\n		\n			New federal mandate requires that television stations switch from analog format to digital format\, which means a greater number of televisions\, will become obsolete within the next several years.\n	\n	What is "E-Waste"?\n\n	E-Waste is any consumer electronic equipment that has reached its 'end-of-life' or 'end-of-usage'\, whether in full or non-working condition.  It includes most electronics  or electrical appliances  with a cord or circuit board such as:\n\n	\n\n	Computer Monitors\, TV Sets\, PC Systems\, Printers\, Laptops\, Copiers\, Scanners\, Fax Machines\, Toner Cartridges\, Power Supplies\, VCR/VCD/DVD Players\, Home Entertainment Systems\, Landline and Cellular Phones\, and small portable devices.\n\n	We accept car and forklift batteries.  There is a $5 service fee for Microwave Ovens.  We do not accept: Refrigerators\, Washer & Dryers\, Fluorescent Light Bulbs\, and Household Batteries.\n\n	Click here to edit...
X-ALT-DESC;FMTTYPE=text/html:<div style="color: gray\;">\n	<strong><span style="font-size: 9pt\;"><span style="font-family: arial\,sans-serif\;"><span style="color: rgb(34\, 34\, 34)\;">Free Electronic Waste (E-Waste) Collection Event</span></span></span></strong><br />\n	<span style="font-size: 9pt\;"><span style="font-family: arial\,sans-serif\;"><span style="color: rgb(34\, 34\, 34)\;">Help our City get rid of E-Waste the right way by sending it to a proper recycling process and not into the landfills!</span></span></span><br />\n	<ul>\n		<li style="margin: 0in 0in 10pt\; color: rgb(34\, 34\, 34)\; line-height: normal\;">\n			<span style="font-size: 9pt\;"><span style="font-family: arial\,sans-serif\;">Electronic discard is one of the fastest growing segments of this nations waste stream.</span></span></li>\n		<li style="margin: 0in 0in 10pt\; color: rgb(34\, 34\, 34)\; line-height: normal\;">\n			<span style="font-size: 9pt\;"><span style="font-family: arial\,sans-serif\;">56% of American households have functional e-products that they no longer use.</span></span></li>\n		<li style="margin: 0in 0in 10pt\; color: rgb(34\, 34\, 34)\; line-height: normal\;">\n			<span style="font-size: 9pt\;"><span style="font-family: arial\,sans-serif\;">70% of heavy metals\, 40% of lead and mercury contents found in&nbsp\; today&#39\;s landfills come from E-Waste.</span></span></li>\n		<li style="margin: 0in 0in 10pt\; color: rgb(34\, 34\, 34)\; line-height: normal\;">\n			<span style="font-size: 9pt\;"><span style="font-family: arial\,sans-serif\;">New federal mandate requires that television stations switch from analog format to digital format\, which means a greater number of televisions\, will become obsolete within the next several years.</span></span></li>\n	</ul>\n	<strong><u><span style="font-size: 9pt\;"><span style="font-family: arial\,sans-serif\;"><span style="color: rgb(34\, 34\, 34)\;">What is &quot\;E-Waste&quot\;?</span></span></span></u></strong><br />\n	<span style="font-size: 9pt\;"><span style="font-family: arial\,sans-serif\;"><span style="color: rgb(34\, 34\, 34)\;">E-Waste is any consumer electronic equipment that has reached its &#39\;end-of-life&#39\; or &#39\;end-of-usage&#39\;\, whether in full or non-working condition.&nbsp\; It includes most electronics&nbsp\; or electrical appliances&nbsp\; with a cord or circuit board such as:<br />\n	<br />\n	Computer Monitors\, TV Sets\, PC Systems\, Printers\, Laptops\, Copiers\, Scanners\, Fax Machines\, Toner Cartridges\, Power Supplies\, VCR/VCD/DVD Players\, Home Entertainment Systems\, Landline and Cellular Phones\, and small portable devices.<br />\n	We accept car and forklift batteries.&nbsp\; There is a $5 service fee for Microwave Ovens.&nbsp\; We do not accept: Refrigerators\, Washer &amp\; Dryers\, Fluorescent Light Bulbs\, and Household Batteries.</span></span></span><br />\n	Click here to edit...</div>\n
LOCATION:Taylor Ranch Park (Parking Lot) 737 N. Montebello Blvd. Montebello\, CA 90640
UID:e.1156.949
SEQUENCE:3
DTSTAMP:20260419T185000Z
URL:https://www.montebellochamber.org/events/details/free-e-waste-collection-event-09-29-2013-949
END:VEVENT

END:VCALENDAR
