BEGIN:VCALENDAR
VERSION:2.0
PRODID:-//ChamberMaster//Event Calendar 2.0//EN
METHOD:PUBLISH
X-PUBLISHED-TTL:P3D
REFRESH-INTERVAL:P3D
CALSCALE:GREGORIAN
BEGIN:VEVENT
DTSTART:20130223T170000Z
DTEND:20130225T000000Z
X-MICROSOFT-CDO-ALLDAYEVENT:FALSE
SUMMARY:Free E-Waste Collection Event Sat. & Sun.
DESCRIPTION:Free Electronic Waste [E-Waste] Collection Event\n\nHelp our city get rid of E-Waste the right way by sending it to a proper recycling process and not into the landfills!\n\n\n\nWhat is E-Waste?\n\nE-Waste is any consumer electronic equipment that has reached its 'end of life' or 'end of usage'\, whether in full or non-working condition.  It includes most electronics or electric appliances with a cord or circuit board such as: Computer monitors\, television sets\, printers\, laptops\, toner cartridges\, cell phones\, and car batteries\, etc.  There is a $5.00 fee for Microwave ovens.  We do not accept Refrigerators\, Washers and Dryers\, Fluorescent Light Bulbs\, and household Batteries.\n\n\n\nAn Event hosted by the Montebello Chamber of Commerce.\n\nFor more information please contact us at (323)721-1153
X-ALT-DESC;FMTTYPE=text/html:<strong>Free Electronic Waste [E-Waste] Collection Event</strong><br />\nHelp our city get rid of E-Waste the right way by sending it to a proper recycling process and not into the landfills!<br />\n<br />\n<strong>What is E-Waste?</strong><br />\nE-Waste is any consumer electronic equipment that has reached its &#39\;end of life&#39\; or &#39\;end of usage&#39\;\, whether in full or non-working condition.&nbsp\; It includes most electronics or electric appliances with a cord or circuit board such as: Computer monitors\, television sets\, printers\, laptops\, toner cartridges\, cell phones\, and car batteries\, etc.&nbsp\; <u>There is a $5.00 fee for Microwave ovens</u>.&nbsp\; <strong>We do not accept Refrigerators\, Washers and Dryers\, Fluorescent Light Bulbs\, and household Batteries.</strong><br />\n<br />\nAn Event hosted by the Montebello Chamber of Commerce.<br />\nFor more information please contact us at (323)721-1153
LOCATION:Taylor Ranch Park (Parking Lot) 737 N. Montebello Blvd.\, Montebello\, CA 90640 (Corner of Lincoln Ave. & Montebello Blvd.)
UID:e.1156.685
SEQUENCE:3
DTSTAMP:20260419T172651Z
URL:https://www.montebellochamber.org/events/details/free-e-waste-collection-event-sat-sun-02-23-2013-685
END:VEVENT

END:VCALENDAR
