BEGIN:VCALENDAR
VERSION:2.0
PRODID:-//ChamberMaster//Event Calendar 2.0//EN
METHOD:PUBLISH
X-PUBLISHED-TTL:P3D
REFRESH-INTERVAL:P3D
CALSCALE:GREGORIAN
BEGIN:VEVENT
DTSTART:20130413T160000Z
DTEND:20130413T220000Z
X-MICROSOFT-CDO-ALLDAYEVENT:FALSE
SUMMARY:Free Electronic Waste Collection Event to Benefit La Merced Intermediate School
DESCRIPTION:Too Toxic to Trash? Recycle all your unused\, unwanted Electronic Waste for FREE. Help us keep our community and planet toxic free and at the same time help us raise funds for La Merced Intermediate School. You are not just giving back to your community\, you are giving back to your planet as well! So join us Saturday April 13th at La Merced Intermediate School Parking Lot and trash all your unwanted E-WASTE for FREE!!
X-ALT-DESC;FMTTYPE=text/html:Too Toxic to Trash? Recycle all your unused\, unwanted Electronic Waste for FREE. Help us keep our community and planet toxic&nbsp\;free and at the same time help us raise funds for La Merced Intermediate School. You are not just giving back to your community\, you are giving back to your planet as well! So join us Saturday April 13th at La Merced Intermediate School Parking Lot and trash all your unwanted E-WASTE&nbsp\;for FREE!!&nbsp\;
LOCATION:La Merced Intermediate School 215 Avenida De La Merced Montebello\, CA 90640
UID:e.1156.694
SEQUENCE:3
DTSTAMP:20260419T160430Z
URL:https://www.montebellochamber.org/events/details/free-electronic-waste-collection-event-to-benefit-la-merced-intermediate-school-04-13-2013-694
END:VEVENT

END:VCALENDAR
